BEGIN:VCALENDAR
VERSION:2.0
PRODID:-//The First Ladies Youth Leadership Foundation, Inc - ECPv6.15.20//NONSGML v1.0//EN
CALSCALE:GREGORIAN
METHOD:PUBLISH
X-WR-CALNAME:The First Ladies Youth Leadership Foundation, Inc
X-ORIGINAL-URL:https://www.firstladiesyouthleadershipfdn.org
X-WR-CALDESC:Events for The First Ladies Youth Leadership Foundation, Inc
REFRESH-INTERVAL;VALUE=DURATION:PT1H
X-Robots-Tag:noindex
X-PUBLISHED-TTL:PT1H
BEGIN:VTIMEZONE
TZID:UTC
BEGIN:STANDARD
TZOFFSETFROM:+0000
TZOFFSETTO:+0000
TZNAME:UTC
DTSTART:20240101T000000
END:STANDARD
END:VTIMEZONE
BEGIN:VEVENT
DTSTART;VALUE=DATE:20250925
DTEND;VALUE=DATE:20250929
DTSTAMP:20260421T055012
CREATED:20250827T143536Z
LAST-MODIFIED:20250922T153650Z
UID:8432-1758758400-1759103999@www.firstladiesyouthleadershipfdn.org
SUMMARY:The Launch Retreat
DESCRIPTION:Time to Launch into First Ladies SY25-26!
URL:https://www.firstladiesyouthleadershipfdn.org/event/the-launch-retreat/
ATTACH;FMTTYPE=image/jpeg:https://www.firstladiesyouthleadershipfdn.org/wp-content/uploads/2024/05/launch-relaunch-img-0207.jpg
END:VEVENT
BEGIN:VEVENT
DTSTART;TZID=UTC:20250927T110000
DTEND;TZID=UTC:20250927T170000
DTSTAMP:20260421T055012
CREATED:20250922T142949Z
LAST-MODIFIED:20250922T162543Z
UID:8450-1758970800-1758992400@www.firstladiesyouthleadershipfdn.org
SUMMARY:The Launch || Welcome to Homecoming Day
DESCRIPTION:
URL:https://www.firstladiesyouthleadershipfdn.org/event/the-launch-welcome-to-homecoming-day/
LOCATION:B.O.L.D.\, 2826 GA-20\, Conyers\, GA\, 30013\, United States
ATTACH;FMTTYPE=image/jpeg:https://www.firstladiesyouthleadershipfdn.org/wp-content/uploads/2024/05/gallery-5-ex.jpg
END:VEVENT
END:VCALENDAR