BEGIN:VCALENDAR
VERSION:2.0
PRODID:-//The First Ladies Youth Leadership Foundation, Inc - ECPv6.15.20//NONSGML v1.0//EN
CALSCALE:GREGORIAN
METHOD:PUBLISH
X-WR-CALNAME:The First Ladies Youth Leadership Foundation, Inc
X-ORIGINAL-URL:https://www.firstladiesyouthleadershipfdn.org
X-WR-CALDESC:Events for The First Ladies Youth Leadership Foundation, Inc
REFRESH-INTERVAL;VALUE=DURATION:PT1H
X-Robots-Tag:noindex
X-PUBLISHED-TTL:PT1H
BEGIN:VTIMEZONE
TZID:UTC
BEGIN:STANDARD
TZOFFSETFROM:+0000
TZOFFSETTO:+0000
TZNAME:UTC
DTSTART:20240101T000000
END:STANDARD
END:VTIMEZONE
BEGIN:VEVENT
DTSTART;TZID=UTC:20251026T150000
DTEND;TZID=UTC:20251026T170000
DTSTAMP:20260421T005332
CREATED:20231031T173104Z
LAST-MODIFIED:20250924T000614Z
UID:6926-1761490800-1761498000@www.firstladiesyouthleadershipfdn.org
SUMMARY:Signature Event || The First Ladies 16th Annual Induction Ceremony & Impartation Service
DESCRIPTION:The First Ladies Youth Leadership Foundation\, Inc.’s 16th Annual Induction Ceremony is a signature event held during the fall. It is hosted by the individual chapters or the Collective Induction Ceremony Committee. \nRooted in being a significant day for our emerging women and the community that esteems their worth and guided by mentor leaders\, a new cohort of First Ladies LeadHERS are surrounded by family and friends to set the tone for a transformative 21-week experience where purpose is nurtured\, and futures are shaped. \nTogether\, school\, faith and civic leaders champion the next generation of female leaders in the areas of family\, faith\, education\, government\, media\, arts\, entertainment\, business\, medicine\, technology\, and sports. With every code of honor spoken and every candle lit\, middle and high school rising women will receive small gifts representing their commitment to excellence. \n.It is our honor to invite you to this family and community affair.  \nOpen to the public. Seating is limited. \nTickets: www.eventbrite.com
URL:https://www.firstladiesyouthleadershipfdn.org/event/signature-event-the-first-ladies-15th-annual-induction-ceremony-impartation-service/
LOCATION:TBD
ATTACH;FMTTYPE=image/jpeg:https://www.firstladiesyouthleadershipfdn.org/wp-content/uploads/2024/05/induction-ceremony-img-4963.jpg
END:VEVENT
END:VCALENDAR