BEGIN:VCALENDAR
VERSION:2.0
PRODID:-//The First Ladies Youth Leadership Foundation, Inc - ECPv6.15.20//NONSGML v1.0//EN
CALSCALE:GREGORIAN
METHOD:PUBLISH
X-ORIGINAL-URL:https://www.firstladiesyouthleadershipfdn.org
X-WR-CALDESC:Events for The First Ladies Youth Leadership Foundation, Inc
REFRESH-INTERVAL;VALUE=DURATION:PT1H
X-Robots-Tag:noindex
X-PUBLISHED-TTL:PT1H
BEGIN:VTIMEZONE
TZID:UTC
BEGIN:STANDARD
TZOFFSETFROM:+0000
TZOFFSETTO:+0000
TZNAME:UTC
DTSTART:20240101T000000
END:STANDARD
END:VTIMEZONE
BEGIN:VEVENT
DTSTART;TZID=UTC:20251122T113000
DTEND;TZID=UTC:20251122T143000
DTSTAMP:20260420T213651
CREATED:20230831T221924Z
LAST-MODIFIED:20251112T153536Z
UID:6763-1763811000-1763821800@www.firstladiesyouthleadershipfdn.org
SUMMARY:Signature Event || Women Serving Women in Transition for the Holidays (Adopt an Apartment with First Ladies)
DESCRIPTION:Join us this November to create lasting change! Become part of an inspiring community of women and girls dedicated to helping families move from homelessness into warm\, loving apartments just in time for Thanksgiving. 🏠✨ Sign up by November 17\, 2025\, and make a difference that matters! \nAnnually\, the First Ladies LeadHERS host a heartwarming community service project designed to brighten the holidays for women transitioning from homelessness to small apartments. This Make A Change Saturday initiative will include donating Christmas gifts and decorating up to 16 small apartments at a local women’s shelter with festive Christmas decorations. Through this act of service\, First Ladies’ aims to spread love and joy and provide a sense of comfort and hope to the families in need during this Thanksgiving and Christmas season. \nClick here to sign-up to Adopt An Apartment and access the Wish List  Registration Form \nClick here to see our latest Instagram reel on the impact made by our mentees and our partners from Emory University\, Phoenix Pass\, Emory (University)Cares\, Acuity Veterans\, Women’s Network and others\, : https://www.instagram.com/reel/C0R-jtMvs_J/?igsh=MWowNTR3dTdubGNvOQ== \n  \n 
URL:https://www.firstladiesyouthleadershipfdn.org/event/adopt-a-home/
LOCATION:Phenoix Pass\, 631 Promise Path\, Conyers\, GA\, 30012\, United States
ATTACH;FMTTYPE=image/png:https://www.firstladiesyouthleadershipfdn.org/wp-content/uploads/2023/08/Make-a-change-Saturday.png
END:VEVENT
END:VCALENDAR