BEGIN:VCALENDAR
VERSION:2.0
PRODID:-//The First Ladies Youth Leadership Foundation, Inc - ECPv6.15.20//NONSGML v1.0//EN
CALSCALE:GREGORIAN
METHOD:PUBLISH
X-WR-CALNAME:The First Ladies Youth Leadership Foundation, Inc
X-ORIGINAL-URL:https://www.firstladiesyouthleadershipfdn.org
X-WR-CALDESC:Events for The First Ladies Youth Leadership Foundation, Inc
REFRESH-INTERVAL;VALUE=DURATION:PT1H
X-Robots-Tag:noindex
X-PUBLISHED-TTL:PT1H
BEGIN:VTIMEZONE
TZID:UTC
BEGIN:STANDARD
TZOFFSETFROM:+0000
TZOFFSETTO:+0000
TZNAME:UTC
DTSTART:20240101T000000
END:STANDARD
END:VTIMEZONE
BEGIN:VEVENT
DTSTART;TZID=UTC:20251204T161500
DTEND;TZID=UTC:20251204T190000
DTSTAMP:20260420T194236
CREATED:20241101T180818Z
LAST-MODIFIED:20251202T164419Z
UID:7726-1764864900-1764874800@www.firstladiesyouthleadershipfdn.org
SUMMARY:Thursday Afterschool Meet-Up
DESCRIPTION:House of Stockbridge Middle School will meet from bus dismissal-5:15pm \nHouse of NewRock Middle School will meet from 4:45-6pm (arrival begins at 4:30) \nHouse of NewRock High School will meet from 5:45-7pm (arrival begins at 5:30)
URL:https://www.firstladiesyouthleadershipfdn.org/event/thursday-first-ladies-meeting-5/
ATTACH;FMTTYPE=image/jpeg:https://www.firstladiesyouthleadershipfdn.org/wp-content/uploads/2024/05/gallery-17-img-48-1.jpg
END:VEVENT
END:VCALENDAR