BEGIN:VCALENDAR
VERSION:2.0
PRODID:-//The First Ladies Youth Leadership Foundation, Inc - ECPv6.15.20//NONSGML v1.0//EN
CALSCALE:GREGORIAN
METHOD:PUBLISH
X-WR-CALNAME:The First Ladies Youth Leadership Foundation, Inc
X-ORIGINAL-URL:https://www.firstladiesyouthleadershipfdn.org
X-WR-CALDESC:Events for The First Ladies Youth Leadership Foundation, Inc
REFRESH-INTERVAL;VALUE=DURATION:PT1H
X-Robots-Tag:noindex
X-PUBLISHED-TTL:PT1H
BEGIN:VTIMEZONE
TZID:UTC
BEGIN:STANDARD
TZOFFSETFROM:+0000
TZOFFSETTO:+0000
TZNAME:UTC
DTSTART:20240101T000000
END:STANDARD
END:VTIMEZONE
BEGIN:VEVENT
DTSTART;TZID=UTC:20251213T090000
DTEND;TZID=UTC:20251213T101500
DTSTAMP:20260420T194246
CREATED:20251202T161207Z
LAST-MODIFIED:20251211T153433Z
UID:8578-1765616400-1765620900@www.firstladiesyouthleadershipfdn.org
SUMMARY:M.A.C. Service Saturday - Serving our Community with Christmas Caroling
DESCRIPTION:Permission Slip Make a Change Service Saturday\, December 13th\, 2025- \nhttps://docs.google.com/forms/d/e/1FAIpQLSeXnTsbnOme_SMd8hcMd_OkKphs5ReY6h2bzrV5a7EYxYfBMg/viewform?usp=preview
URL:https://www.firstladiesyouthleadershipfdn.org/event/m-a-c-service-saturday/
LOCATION:Piedmont Rockdale\, 1412 Milstead Ave\, Conyers\, 30012\, United States
ATTACH;FMTTYPE=image/jpeg:https://www.firstladiesyouthleadershipfdn.org/wp-content/uploads/2024/05/gallery-14-img-44-3.jpg
END:VEVENT
END:VCALENDAR