BEGIN:VCALENDAR
VERSION:2.0
PRODID:-//The First Ladies Youth Leadership Foundation, Inc - ECPv6.15.20//NONSGML v1.0//EN
CALSCALE:GREGORIAN
METHOD:PUBLISH
X-WR-CALNAME:The First Ladies Youth Leadership Foundation, Inc
X-ORIGINAL-URL:https://www.firstladiesyouthleadershipfdn.org
X-WR-CALDESC:Events for The First Ladies Youth Leadership Foundation, Inc
REFRESH-INTERVAL;VALUE=DURATION:PT1H
X-Robots-Tag:noindex
X-PUBLISHED-TTL:PT1H
BEGIN:VTIMEZONE
TZID:UTC
BEGIN:STANDARD
TZOFFSETFROM:+0000
TZOFFSETTO:+0000
TZNAME:UTC
DTSTART:20240101T000000
END:STANDARD
END:VTIMEZONE
BEGIN:VEVENT
DTSTART;TZID=UTC:20251214T000000
DTEND;TZID=UTC:20260106T235900
DTSTAMP:20260420T194247
CREATED:20230831T222844Z
LAST-MODIFIED:20251211T152910Z
UID:6777-1765670400-1767743940@www.firstladiesyouthleadershipfdn.org
SUMMARY:No Meeting During Christmas Holiday
DESCRIPTION:Hanukkah Begins at Sundown– December 15\nWinter Begins – December 21\nKwanza Begins/Boxing Day – December 26\n\nHappy holidays from First Ladies…Enjoy this time with your families!
URL:https://www.firstladiesyouthleadershipfdn.org/event/no-meeting-during-holiday/
ATTACH;FMTTYPE=image/jpeg:https://www.firstladiesyouthleadershipfdn.org/wp-content/uploads/2023/08/snowflake-gettyimages-612398826-4225188366.jpeg
END:VEVENT
END:VCALENDAR