BEGIN:VCALENDAR
VERSION:2.0
PRODID:-//The First Ladies Youth Leadership Foundation, Inc - ECPv6.15.20//NONSGML v1.0//EN
CALSCALE:GREGORIAN
METHOD:PUBLISH
X-WR-CALNAME:The First Ladies Youth Leadership Foundation, Inc
X-ORIGINAL-URL:https://www.firstladiesyouthleadershipfdn.org
X-WR-CALDESC:Events for The First Ladies Youth Leadership Foundation, Inc
REFRESH-INTERVAL;VALUE=DURATION:PT1H
X-Robots-Tag:noindex
X-PUBLISHED-TTL:PT1H
BEGIN:VTIMEZONE
TZID:UTC
BEGIN:STANDARD
TZOFFSETFROM:+0000
TZOFFSETTO:+0000
TZNAME:UTC
DTSTART:20250101T000000
END:STANDARD
END:VTIMEZONE
BEGIN:VEVENT
DTSTART;TZID=UTC:20260207T090000
DTEND;TZID=UTC:20260207T110000
DTSTAMP:20260420T203357
CREATED:20260120T152530Z
LAST-MODIFIED:20260203T213144Z
UID:8682-1770454800-1770462000@www.firstladiesyouthleadershipfdn.org
SUMMARY:M.A.C Service Saturday- Rise Against Hunger
DESCRIPTION:For communities around the world\, facing hunger affects their livelihood. Almost half of all childhood deaths worldwide occur in children with malnutrition. Impacting remote\, last-mile communities within hunger pockets can feel daunting. With your help\, we can continue to step into these grassroots communities with hope and help. \nBe sure to complete the permission slip- https://docs.google.com/forms/d/e/1FAIpQLScnfnaaj-yFfuu4sYjP3p_NmbSOcFAyWDTlVkK1a6qJgHnpIQ/viewform?usp=preview \n 
URL:https://www.firstladiesyouthleadershipfdn.org/event/mac-rise-against-hunger/
LOCATION:Robert J. Burch Elementery School\, 330 Jenkins Rd\, Tyrone\, GA\, 30290\, United States
END:VEVENT
END:VCALENDAR