BEGIN:VCALENDAR
VERSION:2.0
PRODID:-//The First Ladies Youth Leadership Foundation, Inc - ECPv6.15.20//NONSGML v1.0//EN
CALSCALE:GREGORIAN
METHOD:PUBLISH
X-ORIGINAL-URL:https://www.firstladiesyouthleadershipfdn.org
X-WR-CALDESC:Events for The First Ladies Youth Leadership Foundation, Inc
REFRESH-INTERVAL;VALUE=DURATION:PT1H
X-Robots-Tag:noindex
X-PUBLISHED-TTL:PT1H
BEGIN:VTIMEZONE
TZID:UTC
BEGIN:STANDARD
TZOFFSETFROM:+0000
TZOFFSETTO:+0000
TZNAME:UTC
DTSTART:20250101T000000
END:STANDARD
END:VTIMEZONE
BEGIN:VEVENT
DTSTART;TZID=UTC:20260226T173000
DTEND;TZID=UTC:20260226T183000
DTSTAMP:20260420T150958
CREATED:20260212T151657Z
LAST-MODIFIED:20260226T193609Z
UID:8855-1772127000-1772130600@www.firstladiesyouthleadershipfdn.org
SUMMARY:After School Meet-Up Featuring V Day
DESCRIPTION:Here are the details for our meeting on Thursday:  \n🤍Lady Britney will be hosting a session on menstrual and vaginal health!  \nMiddle school (with the exceptions of Stockbridge) will be coming to RCA at 4:45 pm. Stockbridge will meet at their usual time of 4:15 pm and will join us virtual via teams. Our meeting will end by 6pm.  \nHigh school will follow at their normal 5:45pm meeting time \nAttire: something pink And something that makes them feel beautiful! \n 
URL:https://www.firstladiesyouthleadershipfdn.org/event/after-school-meet-up-featuring-v-day/
END:VEVENT
END:VCALENDAR