BEGIN:VCALENDAR
VERSION:2.0
PRODID:-//The First Ladies Youth Leadership Foundation, Inc - ECPv6.15.20//NONSGML v1.0//EN
CALSCALE:GREGORIAN
METHOD:PUBLISH
X-WR-CALNAME:The First Ladies Youth Leadership Foundation, Inc
X-ORIGINAL-URL:https://www.firstladiesyouthleadershipfdn.org
X-WR-CALDESC:Events for The First Ladies Youth Leadership Foundation, Inc
REFRESH-INTERVAL;VALUE=DURATION:PT1H
X-Robots-Tag:noindex
X-PUBLISHED-TTL:PT1H
BEGIN:VTIMEZONE
TZID:UTC
BEGIN:STANDARD
TZOFFSETFROM:+0000
TZOFFSETTO:+0000
TZNAME:UTC
DTSTART:20250101T000000
END:STANDARD
END:VTIMEZONE
BEGIN:VEVENT
DTSTART;VALUE=DATE:20260305
DTEND;VALUE=DATE:20260306
DTSTAMP:20260420T150403
CREATED:20260116T142834Z
LAST-MODIFIED:20260305T203403Z
UID:8651-1772668800-1772755199@www.firstladiesyouthleadershipfdn.org
SUMMARY:Thursday After School Meet-Up
DESCRIPTION:House of Stockbridge Middle School will meet from bus dismissal-5:15pm \nHouse of NewRock Middle School canceled \nHouse of NewRock High School canceled
URL:https://www.firstladiesyouthleadershipfdn.org/event/thursday-after-school-meet-up/
END:VEVENT
END:VCALENDAR