BEGIN:VCALENDAR
VERSION:2.0
PRODID:-//The First Ladies Youth Leadership Foundation, Inc - ECPv6.15.20//NONSGML v1.0//EN
CALSCALE:GREGORIAN
METHOD:PUBLISH
X-WR-CALNAME:The First Ladies Youth Leadership Foundation, Inc
X-ORIGINAL-URL:https://www.firstladiesyouthleadershipfdn.org
X-WR-CALDESC:Events for The First Ladies Youth Leadership Foundation, Inc
REFRESH-INTERVAL;VALUE=DURATION:PT1H
X-Robots-Tag:noindex
X-PUBLISHED-TTL:PT1H
BEGIN:VTIMEZONE
TZID:UTC
BEGIN:STANDARD
TZOFFSETFROM:+0000
TZOFFSETTO:+0000
TZNAME:UTC
DTSTART:20200101T000000
END:STANDARD
END:VTIMEZONE
BEGIN:VEVENT
DTSTART;VALUE=DATE:20220801
DTEND;VALUE=DATE:20220802
DTSTAMP:20260422T010100
CREATED:20220711T151947Z
LAST-MODIFIED:20220712T113009Z
UID:6199-1659312000-1659398399@www.firstladiesyouthleadershipfdn.org
SUMMARY:The Interview Day - August
DESCRIPTION:August – Date TBD
URL:https://www.firstladiesyouthleadershipfdn.org/event/the-interview-day/
LOCATION:Georgia
ATTACH;FMTTYPE=image/jpeg:https://www.firstladiesyouthleadershipfdn.org/wp-content/uploads/2022/07/ev-interview.jpg
END:VEVENT
BEGIN:VEVENT
DTSTART;TZID=UTC:20210920T183000
DTEND;TZID=UTC:20210920T183000
DTSTAMP:20260422T010100
CREATED:20210701T013857Z
LAST-MODIFIED:20220825T054621Z
UID:5807-1632162600-1632162600@www.firstladiesyouthleadershipfdn.org
SUMMARY:Parent Orientation
DESCRIPTION:
URL:https://www.firstladiesyouthleadershipfdn.org/event/parent-orientation/
LOCATION:Georgia
ATTACH;FMTTYPE=image/jpeg:https://www.firstladiesyouthleadershipfdn.org/wp-content/uploads/2022/07/Contact-ladies-banner-2.jpg
END:VEVENT
END:VCALENDAR