BEGIN:VCALENDAR
VERSION:2.0
PRODID:-//The First Ladies Youth Leadership Foundation, Inc - ECPv6.15.20//NONSGML v1.0//EN
CALSCALE:GREGORIAN
METHOD:PUBLISH
X-WR-CALNAME:The First Ladies Youth Leadership Foundation, Inc
X-ORIGINAL-URL:https://www.firstladiesyouthleadershipfdn.org
X-WR-CALDESC:Events for The First Ladies Youth Leadership Foundation, Inc
REFRESH-INTERVAL;VALUE=DURATION:PT1H
X-Robots-Tag:noindex
X-PUBLISHED-TTL:PT1H
BEGIN:VTIMEZONE
TZID:UTC
BEGIN:STANDARD
TZOFFSETFROM:+0000
TZOFFSETTO:+0000
TZNAME:UTC
DTSTART:20240101T000000
END:STANDARD
END:VTIMEZONE
BEGIN:VEVENT
DTSTART;VALUE=DATE:20260319
DTEND;VALUE=DATE:20260320
DTSTAMP:20260421T005148
CREATED:20260116T143030Z
LAST-MODIFIED:20260116T143030Z
UID:8655-1773878400-1773964799@www.firstladiesyouthleadershipfdn.org
SUMMARY:Thursday After School Meet-Up
DESCRIPTION:House of Stockbridge Middle School will meet from bus dismissal-5:15pm \nHouse of NewRock Middle School will meet from 4:45-6pm (arrival begins at 4:30) \nHouse of NewRock High School will meet from 5:45-7pm (arrival begins at 5:30)
URL:https://www.firstladiesyouthleadershipfdn.org/event/thursday-after-school-meet-up-3/
END:VEVENT
BEGIN:VEVENT
DTSTART;TZID=UTC:20260315T161500
DTEND;TZID=UTC:20260315T183000
DTSTAMP:20260421T005148
CREATED:20260305T204450Z
LAST-MODIFIED:20260310T145156Z
UID:8884-1773591300-1773599400@www.firstladiesyouthleadershipfdn.org
SUMMARY:M.A.C. Make-Up Service Sunday at EUC
DESCRIPTION:
URL:https://www.firstladiesyouthleadershipfdn.org/event/m-a-c-make-up-sunday/
LOCATION:Empowerment  Unlimited Church\, 2826 GA 20\, Conyers\, Georgia\, 30013
END:VEVENT
BEGIN:VEVENT
DTSTART;TZID=UTC:20260314T113000
DTEND;TZID=UTC:20260314T150000
DTSTAMP:20260421T005148
CREATED:20260305T203956Z
LAST-MODIFIED:20260307T200504Z
UID:8880-1773487800-1773500400@www.firstladiesyouthleadershipfdn.org
SUMMARY:M.A.C LeadHERship Saturday- First Ladies Golfing on the Green - Shamrock Edition
DESCRIPTION:ABOUT THE EVENT\nFirst Ladies is going to the greens. Join us for a fun and empowering afternoon at the Girls on the Green – Shamrock Edition\, a special golf experience designed just for girls ages 7 to 17.\nHosted by Golf for Change in partnership with First Tee Metro Atlanta and Girls Golf Atlanta\, this exciting event introduces young girls to the game of golf in a welcoming\, confidence building environment. Whether your daughter is new to golf or already loves the game\, this experience is designed to inspire\, encourage and develop skills both on and off the course.\nThis Shamrock Edition will feature golf instruction\, fun activities and a special jewelry making class included in the event experience. Girls will build confidence\, learn fundamentals of the game and connect with other young athletes in a positive and supportive space.  Yes\, you can wear your fabulous golfing outfits – stylish visors\, chic polos\, and those cute skirts you’ve been waiting to show off. Let’s have an exciting day on the green! \n 
URL:https://www.firstladiesyouthleadershipfdn.org/event/m-a-c-service-saturday-first-ladies-golfing-on-the-green-shamrock-edition/
LOCATION:Pittsburg Yard\, 352 University Avenue
ATTACH;FMTTYPE=image/jpeg:https://www.firstladiesyouthleadershipfdn.org/wp-content/uploads/2026/03/IMG_0019.jpeg
END:VEVENT
BEGIN:VEVENT
DTSTART;TZID=UTC:20260312T193000
DTEND;TZID=UTC:20260312T203000
DTSTAMP:20260421T005148
CREATED:20260310T140730Z
LAST-MODIFIED:20260310T145035Z
UID:8928-1773343800-1773347400@www.firstladiesyouthleadershipfdn.org
SUMMARY:First Ladies Family Network Circle Meeting
DESCRIPTION:
URL:https://www.firstladiesyouthleadershipfdn.org/event/first-ladies-family-meeting/
END:VEVENT
BEGIN:VEVENT
DTSTART;VALUE=DATE:20260312
DTEND;VALUE=DATE:20260313
DTSTAMP:20260421T005148
CREATED:20260116T142931Z
LAST-MODIFIED:20260305T215523Z
UID:8653-1773273600-1773359999@www.firstladiesyouthleadershipfdn.org
SUMMARY:Thursday After School Meet-Up
DESCRIPTION:House of Stockbridge Middle School is canceled. \nHouse of NewRock Middle School will meet from 4:45-6pm (arrival begins at 4:30) \nHouse of NewRock High School will meet from 5:45-7pm (arrival begins at 5:30)
URL:https://www.firstladiesyouthleadershipfdn.org/event/thursday-after-school-meet-up-2/
END:VEVENT
BEGIN:VEVENT
DTSTART;TZID=UTC:20260308T133000
DTEND;TZID=UTC:20260308T153000
DTSTAMP:20260421T005148
CREATED:20260203T164302Z
LAST-MODIFIED:20260305T215323Z
UID:8832-1772976600-1772983800@www.firstladiesyouthleadershipfdn.org
SUMMARY:First Ladies @ HBCU College Fair (NEW DATE)
DESCRIPTION:
URL:https://www.firstladiesyouthleadershipfdn.org/event/first-ladies-hbcu-college-fair/
END:VEVENT
BEGIN:VEVENT
DTSTART;VALUE=DATE:20260305
DTEND;VALUE=DATE:20260306
DTSTAMP:20260421T005148
CREATED:20260116T142834Z
LAST-MODIFIED:20260305T203403Z
UID:8651-1772668800-1772755199@www.firstladiesyouthleadershipfdn.org
SUMMARY:Thursday After School Meet-Up
DESCRIPTION:House of Stockbridge Middle School will meet from bus dismissal-5:15pm \nHouse of NewRock Middle School canceled \nHouse of NewRock High School canceled
URL:https://www.firstladiesyouthleadershipfdn.org/event/thursday-after-school-meet-up/
END:VEVENT
BEGIN:VEVENT
DTSTART;TZID=UTC:20260228T120000
DTEND;TZID=UTC:20260228T140000
DTSTAMP:20260421T005148
CREATED:20260203T162525Z
LAST-MODIFIED:20260226T193517Z
UID:8820-1772280000-1772287200@www.firstladiesyouthleadershipfdn.org
SUMMARY:M.A.C. Service Saturday- Packing Event with Princess and a Pad
DESCRIPTION:Once upon a time\, there was a group of passionate and driven women who wanted to make a difference in the lives of young girls. They saw a pressing issue in society\, and they knew they had to act. They banded together and founded Princess and a Pad\, a non-profit organization that aims to empower young ladies and help them achieve their dreams.\nBe sure to complete the permission slip-https://docs.google.com/forms/d/e/1FAIpQLSfBSxGw23lQk5J5KhjGqUPI4wbGqSrnmFVvwCffD48Rb9R_Nw/viewform?usp=preview
URL:https://www.firstladiesyouthleadershipfdn.org/event/mac-packing-event-with-princess-and-a-pad/
LOCATION:Stockbridge Middle School\, 533 Old Conyers Road\, Stockbridge\, GA\, 30281\, United States
END:VEVENT
BEGIN:VEVENT
DTSTART;TZID=UTC:20260226T173000
DTEND;TZID=UTC:20260226T183000
DTSTAMP:20260421T005148
CREATED:20260212T151657Z
LAST-MODIFIED:20260226T193609Z
UID:8855-1772127000-1772130600@www.firstladiesyouthleadershipfdn.org
SUMMARY:After School Meet-Up Featuring V Day
DESCRIPTION:Here are the details for our meeting on Thursday:  \n🤍Lady Britney will be hosting a session on menstrual and vaginal health!  \nMiddle school (with the exceptions of Stockbridge) will be coming to RCA at 4:45 pm. Stockbridge will meet at their usual time of 4:15 pm and will join us virtual via teams. Our meeting will end by 6pm.  \nHigh school will follow at their normal 5:45pm meeting time \nAttire: something pink And something that makes them feel beautiful! \n 
URL:https://www.firstladiesyouthleadershipfdn.org/event/after-school-meet-up-featuring-v-day/
END:VEVENT
BEGIN:VEVENT
DTSTART;TZID=UTC:20260219T090000
DTEND;TZID=UTC:20260219T120000
DTSTAMP:20260421T005148
CREATED:20260113T162030Z
LAST-MODIFIED:20260203T161249Z
UID:8636-1771491600-1771502400@www.firstladiesyouthleadershipfdn.org
SUMMARY:Self-Care with Platinum Wellness Spa
DESCRIPTION:Welcome to Platinum Wellness Spa\, your go-to destination full-service spa in Conyers\, GA. Our expert team of estheticians\, stylists\, and massage therapists is dedicated to providing a personalized and rejuvenating experience that will leave you looking and feeling your best. We use only the highest quality products and techniques to ensure your complete satisfaction. \nSee website for more information- https://platinumwellnessspa.com and. https://www.facebook.com/theGrio/videos/441741421530493/?extid=CL-UNK-UNK-UNK-IOS_GK0T-GK1C&ref=sharing&mibextid=v7YzmG
URL:https://www.firstladiesyouthleadershipfdn.org/event/team-huddle/
LOCATION:Platinum Wellness Spa\, 1990 Parker Rd SE\, Conyers\, 30094\, United States
END:VEVENT
BEGIN:VEVENT
DTSTART;VALUE=DATE:20260219
DTEND;VALUE=DATE:20260220
DTSTAMP:20260421T005148
CREATED:20260113T162129Z
LAST-MODIFIED:20260203T163840Z
UID:8638-1771459200-1771545599@www.firstladiesyouthleadershipfdn.org
SUMMARY:Family Circle Meeting (Tentative)
DESCRIPTION:
URL:https://www.firstladiesyouthleadershipfdn.org/event/parent-meeting-tentative/
END:VEVENT
BEGIN:VEVENT
DTSTART;TZID=UTC:20260212T180000
DTEND;TZID=UTC:20260212T193000
DTSTAMP:20260421T005148
CREATED:20260113T161902Z
LAST-MODIFIED:20260211T232848Z
UID:8634-1770919200-1770924600@www.firstladiesyouthleadershipfdn.org
SUMMARY:Dr. Sarabess Baumrind of Baumrind Family Dentistry: Atlanta's Trusted Dental Experts
DESCRIPTION:At Baumrind Family Dentistry\, we believe in providing personalized\, quality care\, where a patient is more than just a number—they are part of our family. \nIntroductory Video
URL:https://www.firstladiesyouthleadershipfdn.org/event/guest-speaker-dr-sarabess-baumrind-family-dentistry-atlantas-trusted-dental-experts/
LOCATION:Rockdale Career Academy\, 1064 Culpepper Drive Southwest\, Conyers\, Georgia\, 30094
END:VEVENT
BEGIN:VEVENT
DTSTART;TZID=UTC:20260207T090000
DTEND;TZID=UTC:20260207T110000
DTSTAMP:20260421T005148
CREATED:20260120T152530Z
LAST-MODIFIED:20260203T213144Z
UID:8682-1770454800-1770462000@www.firstladiesyouthleadershipfdn.org
SUMMARY:M.A.C Service Saturday- Rise Against Hunger
DESCRIPTION:For communities around the world\, facing hunger affects their livelihood. Almost half of all childhood deaths worldwide occur in children with malnutrition. Impacting remote\, last-mile communities within hunger pockets can feel daunting. With your help\, we can continue to step into these grassroots communities with hope and help. \nBe sure to complete the permission slip- https://docs.google.com/forms/d/e/1FAIpQLScnfnaaj-yFfuu4sYjP3p_NmbSOcFAyWDTlVkK1a6qJgHnpIQ/viewform?usp=preview \n 
URL:https://www.firstladiesyouthleadershipfdn.org/event/mac-rise-against-hunger/
LOCATION:Robert J. Burch Elementery School\, 330 Jenkins Rd\, Tyrone\, GA\, 30290\, United States
END:VEVENT
BEGIN:VEVENT
DTSTART;VALUE=DATE:20260205
DTEND;VALUE=DATE:20260206
DTSTAMP:20260421T005148
CREATED:20260113T161102Z
LAST-MODIFIED:20260120T151921Z
UID:8632-1770249600-1770335999@www.firstladiesyouthleadershipfdn.org
SUMMARY:No meeting
DESCRIPTION:
URL:https://www.firstladiesyouthleadershipfdn.org/event/no-meeting-2/
END:VEVENT
BEGIN:VEVENT
DTSTART;TZID=UTC:20260204T190000
DTEND;TZID=UTC:20260204T200000
DTSTAMP:20260421T005148
CREATED:20260203T162917Z
LAST-MODIFIED:20260203T162917Z
UID:8825-1770231600-1770235200@www.firstladiesyouthleadershipfdn.org
SUMMARY:Scholarship Committee Meeting
DESCRIPTION:
URL:https://www.firstladiesyouthleadershipfdn.org/event/scholarship-committee-meeting-6/
END:VEVENT
BEGIN:VEVENT
DTSTART;TZID=UTC:20260203T173000
DTEND;TZID=UTC:20260203T183000
DTSTAMP:20260421T005148
CREATED:20260203T162807Z
LAST-MODIFIED:20260203T162807Z
UID:8823-1770139800-1770143400@www.firstladiesyouthleadershipfdn.org
SUMMARY:Jr. CREDC Meeting
DESCRIPTION:
URL:https://www.firstladiesyouthleadershipfdn.org/event/jr-credc-meeting/
END:VEVENT
BEGIN:VEVENT
DTSTART;VALUE=DATE:20260129
DTEND;VALUE=DATE:20260201
DTSTAMP:20260421T005148
CREATED:20260113T160759Z
LAST-MODIFIED:20260121T022928Z
UID:8629-1769644800-1769903999@www.firstladiesyouthleadershipfdn.org
SUMMARY:First Ladies ReLaunch
DESCRIPTION:We are excited to announce our second semester First Ladies’ ReLaunch! \nThursday: 6:45pm Orientation and meeting at Rockdale Career Academy. A family member is required to attend. \nFriday: Virtual \nSaturday: 9:00am HBCU College Fair. (High School Only) \n \nSaturday: 9:00am Teen Empowerment Conference (Middle School) \n \nTransportation details and High School Teen Empowerment Conference will be shared at the Thursday 29 Orientation Meeting .
URL:https://www.firstladiesyouthleadershipfdn.org/event/first-ladies-re-launch/
END:VEVENT
BEGIN:VEVENT
DTSTART;VALUE=DATE:20260119
DTEND;VALUE=DATE:20260120
DTSTAMP:20260421T005148
CREATED:20260113T160615Z
LAST-MODIFIED:20260113T160615Z
UID:8624-1768780800-1768867199@www.firstladiesyouthleadershipfdn.org
SUMMARY:MLK Holiday
DESCRIPTION:Martin Luther King Jr. (MLK) was a pivotal Baptist minister and civil rights leader who championed racial equality in the U.S. through nonviolent resistance\, leading major protests like the Montgomery Bus Boycott and the March on Washington\, and advocating for civil disobedience against segregation\, earning the Nobel Peace Prize in 1964 before his assassination in 1968. 
URL:https://www.firstladiesyouthleadershipfdn.org/event/mlk-holiday/
END:VEVENT
BEGIN:VEVENT
DTSTART;VALUE=DATE:20260115
DTEND;VALUE=DATE:20260116
DTSTAMP:20260421T005148
CREATED:20260113T160429Z
LAST-MODIFIED:20260113T160934Z
UID:8622-1768435200-1768521599@www.firstladiesyouthleadershipfdn.org
SUMMARY:Team Huddle Start-Up Meeting
DESCRIPTION:
URL:https://www.firstladiesyouthleadershipfdn.org/event/team-huddle-start-up-meeting-tbd/
END:VEVENT
BEGIN:VEVENT
DTSTART;VALUE=DATE:20260113
DTEND;VALUE=DATE:20260114
DTSTAMP:20260421T005148
CREATED:20260113T160223Z
LAST-MODIFIED:20260113T160223Z
UID:8620-1768262400-1768348799@www.firstladiesyouthleadershipfdn.org
SUMMARY:Holiday Break Ends/ FL Re-opens
DESCRIPTION:
URL:https://www.firstladiesyouthleadershipfdn.org/event/holiday-break-ends-fl-re-opens/
END:VEVENT
BEGIN:VEVENT
DTSTART;VALUE=DATE:20260101
DTEND;VALUE=DATE:20260102
DTSTAMP:20260421T005149
CREATED:20260113T160033Z
LAST-MODIFIED:20260113T160033Z
UID:8618-1767225600-1767311999@www.firstladiesyouthleadershipfdn.org
SUMMARY:New Year’s Day!
DESCRIPTION:
URL:https://www.firstladiesyouthleadershipfdn.org/event/new-years-day/
END:VEVENT
BEGIN:VEVENT
DTSTART;TZID=UTC:20251214T000000
DTEND;TZID=UTC:20260106T235900
DTSTAMP:20260421T005149
CREATED:20230831T222844Z
LAST-MODIFIED:20251211T152910Z
UID:6777-1765670400-1767743940@www.firstladiesyouthleadershipfdn.org
SUMMARY:No Meeting During Christmas Holiday
DESCRIPTION:Hanukkah Begins at Sundown– December 15\nWinter Begins – December 21\nKwanza Begins/Boxing Day – December 26\n\nHappy holidays from First Ladies…Enjoy this time with your families!
URL:https://www.firstladiesyouthleadershipfdn.org/event/no-meeting-during-holiday/
ATTACH;FMTTYPE=image/jpeg:https://www.firstladiesyouthleadershipfdn.org/wp-content/uploads/2023/08/snowflake-gettyimages-612398826-4225188366.jpeg
END:VEVENT
BEGIN:VEVENT
DTSTART;TZID=UTC:20251213T090000
DTEND;TZID=UTC:20251213T101500
DTSTAMP:20260421T005149
CREATED:20251202T161207Z
LAST-MODIFIED:20251211T153433Z
UID:8578-1765616400-1765620900@www.firstladiesyouthleadershipfdn.org
SUMMARY:M.A.C. Service Saturday - Serving our Community with Christmas Caroling
DESCRIPTION:Permission Slip Make a Change Service Saturday\, December 13th\, 2025- \nhttps://docs.google.com/forms/d/e/1FAIpQLSeXnTsbnOme_SMd8hcMd_OkKphs5ReY6h2bzrV5a7EYxYfBMg/viewform?usp=preview
URL:https://www.firstladiesyouthleadershipfdn.org/event/m-a-c-service-saturday/
LOCATION:Piedmont Rockdale\, 1412 Milstead Ave\, Conyers\, 30012\, United States
ATTACH;FMTTYPE=image/jpeg:https://www.firstladiesyouthleadershipfdn.org/wp-content/uploads/2024/05/gallery-14-img-44-3.jpg
END:VEVENT
BEGIN:VEVENT
DTSTART;TZID=UTC:20251211T184500
DTEND;TZID=UTC:20251211T200000
DTSTAMP:20260421T005149
CREATED:20251202T165609Z
LAST-MODIFIED:20251211T151643Z
UID:8601-1765478700-1765483200@www.firstladiesyouthleadershipfdn.org
SUMMARY:GLAM DAY || 2026 CALENDAR PHOTOS
DESCRIPTION:
URL:https://www.firstladiesyouthleadershipfdn.org/event/glam-day-2026-calendar-photos-time-tbd/
LOCATION:Rockdale Career Academy\, 1064 Culpepper Drive Southwest\, Conyers\, Georgia\, 30094
ATTACH;FMTTYPE=image/png:https://www.firstladiesyouthleadershipfdn.org/wp-content/uploads/2025/07/mid-sch_002.png
END:VEVENT
BEGIN:VEVENT
DTSTART;TZID=UTC:20251211T161500
DTEND;TZID=UTC:20251211T190000
DTSTAMP:20260421T005149
CREATED:20251211T152110Z
LAST-MODIFIED:20251211T152125Z
UID:8607-1765469700-1765479600@www.firstladiesyouthleadershipfdn.org
SUMMARY:Thursday Afterschool Meet-Up
DESCRIPTION:House of Stockbridge Middle School will meet from bus dismissal-5:15pm \nHouse of NewRock Middle School will meet from 4:45-6pm (arrival begins at 4:30) \nHouse of NewRock High School will meet from 5:45-7pm (arrival begins at 5:30)
URL:https://www.firstladiesyouthleadershipfdn.org/event/thursday-afterschool-meet-up-15/
END:VEVENT
BEGIN:VEVENT
DTSTART;TZID=UTC:20251204T161500
DTEND;TZID=UTC:20251204T190000
DTSTAMP:20260421T005149
CREATED:20241101T180818Z
LAST-MODIFIED:20251202T164419Z
UID:7726-1764864900-1764874800@www.firstladiesyouthleadershipfdn.org
SUMMARY:Thursday Afterschool Meet-Up
DESCRIPTION:House of Stockbridge Middle School will meet from bus dismissal-5:15pm \nHouse of NewRock Middle School will meet from 4:45-6pm (arrival begins at 4:30) \nHouse of NewRock High School will meet from 5:45-7pm (arrival begins at 5:30)
URL:https://www.firstladiesyouthleadershipfdn.org/event/thursday-first-ladies-meeting-5/
ATTACH;FMTTYPE=image/jpeg:https://www.firstladiesyouthleadershipfdn.org/wp-content/uploads/2024/05/gallery-17-img-48-1.jpg
END:VEVENT
BEGIN:VEVENT
DTSTART;VALUE=DATE:20251203
DTEND;VALUE=DATE:20251204
DTSTAMP:20260421T005149
CREATED:20241203T194133Z
LAST-MODIFIED:20251202T165312Z
UID:7806-1764720000-1764806399@www.firstladiesyouthleadershipfdn.org
SUMMARY:Scholarship Committee Meeting (Time TBD)
DESCRIPTION:
URL:https://www.firstladiesyouthleadershipfdn.org/event/scholarship-meeting/
END:VEVENT
BEGIN:VEVENT
DTSTART;TZID=UTC:20251122T113000
DTEND;TZID=UTC:20251122T143000
DTSTAMP:20260421T005149
CREATED:20230831T221924Z
LAST-MODIFIED:20251112T153536Z
UID:6763-1763811000-1763821800@www.firstladiesyouthleadershipfdn.org
SUMMARY:Signature Event || Women Serving Women in Transition for the Holidays (Adopt an Apartment with First Ladies)
DESCRIPTION:Join us this November to create lasting change! Become part of an inspiring community of women and girls dedicated to helping families move from homelessness into warm\, loving apartments just in time for Thanksgiving. 🏠✨ Sign up by November 17\, 2025\, and make a difference that matters! \nAnnually\, the First Ladies LeadHERS host a heartwarming community service project designed to brighten the holidays for women transitioning from homelessness to small apartments. This Make A Change Saturday initiative will include donating Christmas gifts and decorating up to 16 small apartments at a local women’s shelter with festive Christmas decorations. Through this act of service\, First Ladies’ aims to spread love and joy and provide a sense of comfort and hope to the families in need during this Thanksgiving and Christmas season. \nClick here to sign-up to Adopt An Apartment and access the Wish List  Registration Form \nClick here to see our latest Instagram reel on the impact made by our mentees and our partners from Emory University\, Phoenix Pass\, Emory (University)Cares\, Acuity Veterans\, Women’s Network and others\, : https://www.instagram.com/reel/C0R-jtMvs_J/?igsh=MWowNTR3dTdubGNvOQ== \n  \n 
URL:https://www.firstladiesyouthleadershipfdn.org/event/adopt-a-home/
LOCATION:Phenoix Pass\, 631 Promise Path\, Conyers\, GA\, 30012\, United States
ATTACH;FMTTYPE=image/png:https://www.firstladiesyouthleadershipfdn.org/wp-content/uploads/2023/08/Make-a-change-Saturday.png
END:VEVENT
BEGIN:VEVENT
DTSTART;TZID=UTC:20251120T081500
DTEND;TZID=UTC:20251120T190000
DTSTAMP:20260421T005149
CREATED:20241101T180537Z
LAST-MODIFIED:20251202T163624Z
UID:7722-1763626500-1763665200@www.firstladiesyouthleadershipfdn.org
SUMMARY:Thursday Afterschool Meet-Up
DESCRIPTION:House of NewRock Middle School will meet from 4:45 pm – 6 pm (arrival at 4:30)\nHouse of NewRock High School will meet from 5:45pm-7pm. (arrival at 5:30)
URL:https://www.firstladiesyouthleadershipfdn.org/event/thursday-first-ladies-meeting-3/
ATTACH;FMTTYPE=image/jpeg:https://www.firstladiesyouthleadershipfdn.org/wp-content/uploads/2024/05/gallery-17-img-48-1.jpg
END:VEVENT
BEGIN:VEVENT
DTSTART;TZID=UTC:20251119T080000
DTEND;TZID=UTC:20251119T093000
DTSTAMP:20260421T005149
CREATED:20251202T164852Z
LAST-MODIFIED:20251202T164953Z
UID:8596-1763539200-1763544600@www.firstladiesyouthleadershipfdn.org
SUMMARY:SMS Morning Meet-Up (New Date)
DESCRIPTION:Date Change: Please refer to the November First Ladies Family Circle Meeting for details.
URL:https://www.firstladiesyouthleadershipfdn.org/event/sms-morning-meet-up/
END:VEVENT
END:VCALENDAR