BEGIN:VCALENDAR
VERSION:2.0
PRODID:-//The First Ladies Youth Leadership Foundation, Inc - ECPv6.15.20//NONSGML v1.0//EN
CALSCALE:GREGORIAN
METHOD:PUBLISH
X-WR-CALNAME:The First Ladies Youth Leadership Foundation, Inc
X-ORIGINAL-URL:https://www.firstladiesyouthleadershipfdn.org
X-WR-CALDESC:Events for The First Ladies Youth Leadership Foundation, Inc
REFRESH-INTERVAL;VALUE=DURATION:PT1H
X-Robots-Tag:noindex
X-PUBLISHED-TTL:PT1H
BEGIN:VTIMEZONE
TZID:UTC
BEGIN:STANDARD
TZOFFSETFROM:+0000
TZOFFSETTO:+0000
TZNAME:UTC
DTSTART:20240101T000000
END:STANDARD
END:VTIMEZONE
BEGIN:VEVENT
DTSTART;TZID=UTC:20251120T081500
DTEND;TZID=UTC:20251120T190000
DTSTAMP:20260421T031455
CREATED:20241101T180537Z
LAST-MODIFIED:20251202T163624Z
UID:7722-1763626500-1763665200@www.firstladiesyouthleadershipfdn.org
SUMMARY:Thursday Afterschool Meet-Up
DESCRIPTION:House of NewRock Middle School will meet from 4:45 pm – 6 pm (arrival at 4:30)\nHouse of NewRock High School will meet from 5:45pm-7pm. (arrival at 5:30)
URL:https://www.firstladiesyouthleadershipfdn.org/event/thursday-first-ladies-meeting-3/
ATTACH;FMTTYPE=image/jpeg:https://www.firstladiesyouthleadershipfdn.org/wp-content/uploads/2024/05/gallery-17-img-48-1.jpg
END:VEVENT
BEGIN:VEVENT
DTSTART;TZID=UTC:20251119T080000
DTEND;TZID=UTC:20251119T093000
DTSTAMP:20260421T031455
CREATED:20251202T164852Z
LAST-MODIFIED:20251202T164953Z
UID:8596-1763539200-1763544600@www.firstladiesyouthleadershipfdn.org
SUMMARY:SMS Morning Meet-Up (New Date)
DESCRIPTION:Date Change: Please refer to the November First Ladies Family Circle Meeting for details.
URL:https://www.firstladiesyouthleadershipfdn.org/event/sms-morning-meet-up/
END:VEVENT
BEGIN:VEVENT
DTSTART;TZID=UTC:20251112T160000
DTEND;TZID=UTC:20251112T171500
DTSTAMP:20260421T031455
CREATED:20251202T164701Z
LAST-MODIFIED:20251202T165123Z
UID:8594-1762963200-1762967700@www.firstladiesyouthleadershipfdn.org
SUMMARY:SMS Afterschool Meet-Up (New Date)
DESCRIPTION:Date Change: Please refer to the November First Ladies Family Circle Meeting for details.
URL:https://www.firstladiesyouthleadershipfdn.org/event/sms-afterschool-meet-up-new-date/
END:VEVENT
BEGIN:VEVENT
DTSTART;TZID=UTC:20251026T150000
DTEND;TZID=UTC:20251026T170000
DTSTAMP:20260421T031455
CREATED:20231031T173104Z
LAST-MODIFIED:20250924T000614Z
UID:6926-1761490800-1761498000@www.firstladiesyouthleadershipfdn.org
SUMMARY:Signature Event || The First Ladies 16th Annual Induction Ceremony & Impartation Service
DESCRIPTION:The First Ladies Youth Leadership Foundation\, Inc.’s 16th Annual Induction Ceremony is a signature event held during the fall. It is hosted by the individual chapters or the Collective Induction Ceremony Committee. \nRooted in being a significant day for our emerging women and the community that esteems their worth and guided by mentor leaders\, a new cohort of First Ladies LeadHERS are surrounded by family and friends to set the tone for a transformative 21-week experience where purpose is nurtured\, and futures are shaped. \nTogether\, school\, faith and civic leaders champion the next generation of female leaders in the areas of family\, faith\, education\, government\, media\, arts\, entertainment\, business\, medicine\, technology\, and sports. With every code of honor spoken and every candle lit\, middle and high school rising women will receive small gifts representing their commitment to excellence. \n.It is our honor to invite you to this family and community affair.  \nOpen to the public. Seating is limited. \nTickets: www.eventbrite.com
URL:https://www.firstladiesyouthleadershipfdn.org/event/signature-event-the-first-ladies-15th-annual-induction-ceremony-impartation-service/
LOCATION:TBD
ATTACH;FMTTYPE=image/jpeg:https://www.firstladiesyouthleadershipfdn.org/wp-content/uploads/2024/05/induction-ceremony-img-4963.jpg
END:VEVENT
BEGIN:VEVENT
DTSTART;TZID=UTC:20251023T160000
DTEND;TZID=UTC:20251023T183000
DTSTAMP:20260421T031455
CREATED:20240923T230839Z
LAST-MODIFIED:20250922T154022Z
UID:7694-1761235200-1761244200@www.firstladiesyouthleadershipfdn.org
SUMMARY:Afterschool Meet-Up
DESCRIPTION:
URL:https://www.firstladiesyouthleadershipfdn.org/event/afterschool-meet-up-2/
ATTACH;FMTTYPE=image/png:https://www.firstladiesyouthleadershipfdn.org/wp-content/uploads/2025/08/girls_standing-3.png
END:VEVENT
BEGIN:VEVENT
DTSTART;VALUE=DATE:20251016
DTEND;VALUE=DATE:20251017
DTSTAMP:20260421T031455
CREATED:20230831T221441Z
LAST-MODIFIED:20250827T150136Z
UID:6755-1760572800-1760659199@www.firstladiesyouthleadershipfdn.org
SUMMARY:First SY'26 Afterschool Meet-Up
DESCRIPTION:(Subject to Change) \n\nMiddle School: TBD\nHigh School: TBD
URL:https://www.firstladiesyouthleadershipfdn.org/event/after-school-meeting/
ATTACH;FMTTYPE=image/jpeg:https://www.firstladiesyouthleadershipfdn.org/wp-content/uploads/2023/07/FLYL_SQ_004.jpg
END:VEVENT
BEGIN:VEVENT
DTSTART;VALUE=DATE:20251011
DTEND;VALUE=DATE:20251012
DTSTAMP:20260421T031455
CREATED:20250827T145324Z
LAST-MODIFIED:20250922T152802Z
UID:8437-1760140800-1760227199@www.firstladiesyouthleadershipfdn.org
SUMMARY:International Day of the Girl || M.A.C. Service Leadership Day
DESCRIPTION:Observed annually on 11 October\, International Day of the Girl is a key global moment on which to celebrate girls everywhere\, amplifying their voices\, actions and leadership. It is a day that belongs to everyone who cares about girls and their rights. On this day\, we come together to recognize and advocate for the full spectrum of girls’ rights. \nObserved annually on 11 October\, International Day of the Girl is a key global moment on which to celebrate girls everywhere\, amplifying their voices\, actions and leadership. It is a day that belongs to everyone who cares about girls and their rights. On this day\, we come together to recognize and advocate for the full spectrum of girls’ rights. \nThis year’s theme\, as shaped by girl-led organizations and networks\, is The girl I am\, the change I lead: Girls on the frontlines of crisis. \nA DAY of SERVICE!!! \n \nInternational Day of the Girl 2025 | UNICEF \n#InternationalDayoftheGirl #Dayofthegirl
URL:https://www.firstladiesyouthleadershipfdn.org/event/m-a-c/
LOCATION:Grace Community Food Bank
ATTACH;FMTTYPE=image/jpeg:https://www.firstladiesyouthleadershipfdn.org/wp-content/uploads/2024/06/gallery-35-img-0955.jpg
END:VEVENT
BEGIN:VEVENT
DTSTART;VALUE=DATE:20251002
DTEND;VALUE=DATE:20251003
DTSTAMP:20260421T031455
CREATED:20250922T145154Z
LAST-MODIFIED:20250922T153235Z
UID:8458-1759363200-1759449599@www.firstladiesyouthleadershipfdn.org
SUMMARY:Fitting Day (Tentative Date)
DESCRIPTION:Ring and Spirit Wear Fitting Day
URL:https://www.firstladiesyouthleadershipfdn.org/event/fitting-day-date-tbd/
ATTACH;FMTTYPE=image/png:https://www.firstladiesyouthleadershipfdn.org/wp-content/uploads/2020/09/4-3.png
END:VEVENT
BEGIN:VEVENT
DTSTART;VALUE=DATE:20250928
DTEND;VALUE=DATE:20250929
DTSTAMP:20260421T031455
CREATED:20250922T143148Z
LAST-MODIFIED:20250922T163355Z
UID:8453-1759017600-1759103999@www.firstladiesyouthleadershipfdn.org
SUMMARY:The Launch || M.A.C. Service Sunday - GREEN GEORGIA
DESCRIPTION:In partnership with the Minority Outdoor Alliance and the Georgia Department of Natural Resources\, First Ladies will have a day of service and fun at Piedmont Park. \nThis day offers an opportunity to build unique service leadership skills\, connect with family and nature\, while giving back to the Atlanta commnuity; and rediscovering the beauty of fishing. \nStart Time: 9:45 AM \n***Registration and RSVP Required*** \nRegistration Deadline: September 23 Eventbrite Registration Link \nTransportation: Not Provided
URL:https://www.firstladiesyouthleadershipfdn.org/event/the-launch-m-a-c-service-sunday/
ATTACH;FMTTYPE=image/jpeg:https://www.firstladiesyouthleadershipfdn.org/wp-content/uploads/2024/06/gallery-46-img-3529.jpg
END:VEVENT
BEGIN:VEVENT
DTSTART;TZID=UTC:20250927T110000
DTEND;TZID=UTC:20250927T170000
DTSTAMP:20260421T031455
CREATED:20250922T142949Z
LAST-MODIFIED:20250922T162543Z
UID:8450-1758970800-1758992400@www.firstladiesyouthleadershipfdn.org
SUMMARY:The Launch || Welcome to Homecoming Day
DESCRIPTION:
URL:https://www.firstladiesyouthleadershipfdn.org/event/the-launch-welcome-to-homecoming-day/
LOCATION:B.O.L.D.\, 2826 GA-20\, Conyers\, GA\, 30013\, United States
ATTACH;FMTTYPE=image/jpeg:https://www.firstladiesyouthleadershipfdn.org/wp-content/uploads/2024/05/gallery-5-ex.jpg
END:VEVENT
BEGIN:VEVENT
DTSTART;TZID=UTC:20250925T184500
DTEND;TZID=UTC:20250925T201500
DTSTAMP:20260421T031455
CREATED:20250922T142432Z
LAST-MODIFIED:20250922T162413Z
UID:8447-1758825900-1758831300@www.firstladiesyouthleadershipfdn.org
SUMMARY:The Launch || Welcome Reception & Parent Orientation
DESCRIPTION:Items to Bring:\n\n1 Hardcopy of Parent and Child Quiz Results:The Five Love Languages by Gary Chapman\n\n\n\n 
URL:https://www.firstladiesyouthleadershipfdn.org/event/welcome-reception-parent-orientation/
LOCATION:Stockbridge Middle School\, 533 Old Conyers Road\, Stockbridge\, GA\, 30281\, United States
ATTACH;FMTTYPE=image/jpeg:https://www.firstladiesyouthleadershipfdn.org/wp-content/uploads/2024/05/gallery-25-img-81.jpg
END:VEVENT
BEGIN:VEVENT
DTSTART;VALUE=DATE:20250925
DTEND;VALUE=DATE:20250929
DTSTAMP:20260421T031455
CREATED:20250827T143536Z
LAST-MODIFIED:20250922T153650Z
UID:8432-1758758400-1759103999@www.firstladiesyouthleadershipfdn.org
SUMMARY:The Launch Retreat
DESCRIPTION:Time to Launch into First Ladies SY25-26!
URL:https://www.firstladiesyouthleadershipfdn.org/event/the-launch-retreat/
ATTACH;FMTTYPE=image/jpeg:https://www.firstladiesyouthleadershipfdn.org/wp-content/uploads/2024/05/launch-relaunch-img-0207.jpg
END:VEVENT
BEGIN:VEVENT
DTSTART;TZID=UTC:20250913T110000
DTEND;TZID=UTC:20250913T140000
DTSTAMP:20260421T031455
CREATED:20250707T205751Z
LAST-MODIFIED:20250827T141109Z
UID:8279-1757761200-1757772000@www.firstladiesyouthleadershipfdn.org
SUMMARY:Signature Event || The Interview Day
DESCRIPTION:The interview process is not only a critical step in the First Ladies college and career readiness pillars\, but it is also important for our rising leaders to develop “next level” professional soft skills required for success in the new AI era we live in.  \nVirtual Interviews take place via Zoom. \nAttire: Business Professional
URL:https://www.firstladiesyouthleadershipfdn.org/event/signature-event-the-interview-day/
LOCATION:ZOOM
ATTACH;FMTTYPE=image/jpeg:https://www.firstladiesyouthleadershipfdn.org/wp-content/uploads/2022/07/ev-interview-day.jpg
END:VEVENT
BEGIN:VEVENT
DTSTART;TZID=UTC:20250906T110000
DTEND;TZID=UTC:20250906T140000
DTSTAMP:20260421T031455
CREATED:20230831T220009Z
LAST-MODIFIED:20250827T141353Z
UID:6736-1757156400-1757167200@www.firstladiesyouthleadershipfdn.org
SUMMARY:Signature Event || The Interview Day
DESCRIPTION:The interview process is not only a critical step in the First Ladies college and career readiness pillars\, but it is also important for our rising leaders to develop “next level” professional soft skills required for success in the new AI era we live in.  \nVirtual Interviews take place via Zoom. \nAttire: Business Professional
URL:https://www.firstladiesyouthleadershipfdn.org/event/the-interview-day-i/
LOCATION:ZOOM
ATTACH;FMTTYPE=image/jpeg:https://www.firstladiesyouthleadershipfdn.org/wp-content/uploads/2022/07/ev-interview-day.jpg
END:VEVENT
BEGIN:VEVENT
DTSTART;TZID=UTC:20250827T193000
DTEND;TZID=UTC:20250827T203000
DTSTAMP:20260421T031455
CREATED:20250827T140453Z
LAST-MODIFIED:20250827T143106Z
UID:8426-1756323000-1756326600@www.firstladiesyouthleadershipfdn.org
SUMMARY:First Ladies Virtual Parent Informational/Interest Meeting
DESCRIPTION:Greetings New Interests! \nRegister in advance for this meeting:\nhttps://us02web.zoom.us/meeting/register/QhNeB6vwTHmXiAwR9JWA1Q  \nAfter registering\, you will receive a confirmation email containing information about joining the meeting.
URL:https://www.firstladiesyouthleadershipfdn.org/event/first-ladies-virtual-parent-informational-interest-meeting/
ATTACH;FMTTYPE=image/jpeg:https://www.firstladiesyouthleadershipfdn.org/wp-content/uploads/2022/08/fl-fam-4.jpg
END:VEVENT
BEGIN:VEVENT
DTSTART;VALUE=DATE:20250823
DTEND;VALUE=DATE:20250824
DTSTAMP:20260421T031455
CREATED:20241203T200630Z
LAST-MODIFIED:20250827T143325Z
UID:7863-1755907200-1755993599@www.firstladiesyouthleadershipfdn.org
SUMMARY:The Scholarship Dinner
DESCRIPTION:
URL:https://www.firstladiesyouthleadershipfdn.org/event/the-scholarship-dinner-tentative/
ATTACH;FMTTYPE=image/png:https://www.firstladiesyouthleadershipfdn.org/wp-content/uploads/2025/03/image_001.png
END:VEVENT
BEGIN:VEVENT
DTSTART;TZID=UTC:20250701T235900
DTEND;TZID=UTC:20250701T235900
DTSTAMP:20260421T031455
CREATED:20230717T105034Z
LAST-MODIFIED:20250707T210234Z
UID:6610-1751414340-1751414340@www.firstladiesyouthleadershipfdn.org
SUMMARY:Current Members Application Deadline
DESCRIPTION:
URL:https://www.firstladiesyouthleadershipfdn.org/event/application-deadline-2/
END:VEVENT
BEGIN:VEVENT
DTSTART;TZID=UTC:20250520T183000
DTEND;TZID=UTC:20250520T193000
DTSTAMP:20260421T031455
CREATED:20241203T201116Z
LAST-MODIFIED:20241203T201116Z
UID:7875-1747765800-1747769400@www.firstladiesyouthleadershipfdn.org
SUMMARY:Scholarship Committee Meeting
DESCRIPTION:
URL:https://www.firstladiesyouthleadershipfdn.org/event/scholarship-committee-meeting-5/
END:VEVENT
BEGIN:VEVENT
DTSTART;TZID=UTC:20250515T183000
DTEND;TZID=UTC:20250515T193000
DTSTAMP:20260421T031455
CREATED:20241203T201540Z
LAST-MODIFIED:20250310T181055Z
UID:7891-1747333800-1747337400@www.firstladiesyouthleadershipfdn.org
SUMMARY:First Ladies Family Network Circle Meeting
DESCRIPTION:
URL:https://www.firstladiesyouthleadershipfdn.org/event/family-meeting-4/
END:VEVENT
BEGIN:VEVENT
DTSTART;TZID=UTC:20250513T180000
DTEND;TZID=UTC:20250513T201500
DTSTAMP:20260421T031455
CREATED:20241203T201327Z
LAST-MODIFIED:20250310T181015Z
UID:7883-1747159200-1747167300@www.firstladiesyouthleadershipfdn.org
SUMMARY:First Ladies C.O.R.E /Team Meeting
DESCRIPTION:CORE Meeting: 6-7\nTeam Meeting: 7-8:15
URL:https://www.firstladiesyouthleadershipfdn.org/event/adult-mentor-meeting-5/
END:VEVENT
BEGIN:VEVENT
DTSTART;TZID=UTC:20250504T153000
DTEND;TZID=UTC:20250504T180000
DTSTAMP:20260421T031455
CREATED:20220711T152919Z
LAST-MODIFIED:20250423T013647Z
UID:6225-1746372600-1746381600@www.firstladiesyouthleadershipfdn.org
SUMMARY:Signature Event || End of Year Scholarship Awards Banquet
DESCRIPTION:PURPOSE…FAMILY…COMMUNITY…EDUCATION \nJoin the First Ladies Youth Leadership Foundation\, Inc.\, the Hill Legacy Center\, the Wanda Lynette Hill Scholarship Foundation\, and the Melanin Queens Foundation for Change at this all-white affair to recognize the achievements of our middle and high school students from the metro Atlanta area who have completed 21-weeks of afterschool training and equipping in: leadership\, etiquette\, financial literacy\, entrepreneurship\, high school\, college\, career readiness and much more. \nTicket Price Includes:\nPre-event Showcase Delivered by Participants\n3-Course Brunch\nMusic by C Sharp \nAppropriate All White Attire:\nWhite Business Suit\nWhite Sunday or Spring Best Dress\nPearl Jewelry and Suite Ties are Encouraged \nSeating is limited. Purchase your ticket here.
URL:https://www.firstladiesyouthleadershipfdn.org/event/the-scholarship-banquet/
LOCATION:Hyatt Regency Atlanta Perimeter
ATTACH;FMTTYPE=image/jpeg:https://www.firstladiesyouthleadershipfdn.org/wp-content/uploads/2022/07/ev-banquet-1.jpg
END:VEVENT
BEGIN:VEVENT
DTSTART;TZID=UTC:20250501T161500
DTEND;TZID=UTC:20250501T184500
DTSTAMP:20260421T031455
CREATED:20241203T195615Z
LAST-MODIFIED:20250321T142654Z
UID:7838-1746116100-1746125100@www.firstladiesyouthleadershipfdn.org
SUMMARY:In Person EOY Rehearsal (Tentative)
DESCRIPTION:First Ladies of MMS\, SMS\, ED and High School Rehearsal
URL:https://www.firstladiesyouthleadershipfdn.org/event/thursday-afterschool-meet-up-16/
END:VEVENT
BEGIN:VEVENT
DTSTART;TZID=UTC:20250424T161500
DTEND;TZID=UTC:20250424T184500
DTSTAMP:20260421T031455
CREATED:20241203T195434Z
LAST-MODIFIED:20250321T142316Z
UID:7834-1745511300-1745520300@www.firstladiesyouthleadershipfdn.org
SUMMARY:Thursday EOY Rehearsal
DESCRIPTION:
URL:https://www.firstladiesyouthleadershipfdn.org/event/thursday-afterschool-meet-up-14/
END:VEVENT
BEGIN:VEVENT
DTSTART;VALUE=DATE:20250418
DTEND;VALUE=DATE:20250421
DTSTAMP:20260421T031455
CREATED:20250321T143013Z
LAST-MODIFIED:20250321T143013Z
UID:8212-1744934400-1745193599@www.firstladiesyouthleadershipfdn.org
SUMMARY:Resurrection Weekend/Easter Holiday
DESCRIPTION:
URL:https://www.firstladiesyouthleadershipfdn.org/event/resurrection-weekend-easter-holiday/
END:VEVENT
BEGIN:VEVENT
DTSTART;TZID=UTC:20250417T081500
DTEND;TZID=UTC:20250417T184500
DTSTAMP:20260421T031455
CREATED:20241203T195349Z
LAST-MODIFIED:20250321T142221Z
UID:7832-1744877700-1744915500@www.firstladiesyouthleadershipfdn.org
SUMMARY:Thursday EOY Rehearsal
DESCRIPTION:First Ladies of SMS meets every 3rd Thursday at 8:15am on this day\nFirst Ladies of MMS will meet in the morning\nFirst Ladies of EDC will meet from 4:30 pm – 5:45 pm\nHigh School First Ladies will meet from 5:30pm-6:45pm.\nSchedule Subject to Change
URL:https://www.firstladiesyouthleadershipfdn.org/event/thursday-afterschool-meet-up-13/
END:VEVENT
BEGIN:VEVENT
DTSTART;TZID=UTC:20250410T183000
DTEND;TZID=UTC:20250410T193000
DTSTAMP:20260421T031455
CREATED:20241203T201051Z
LAST-MODIFIED:20250321T141935Z
UID:7873-1744309800-1744313400@www.firstladiesyouthleadershipfdn.org
SUMMARY:Scholarship Committee Meeting
DESCRIPTION:
URL:https://www.firstladiesyouthleadershipfdn.org/event/scholarship-committee-meeting-4/
END:VEVENT
BEGIN:VEVENT
DTSTART;TZID=UTC:20250410T161500
DTEND;TZID=UTC:20250410T184500
DTSTAMP:20260421T031455
CREATED:20241203T195322Z
LAST-MODIFIED:20250321T142032Z
UID:7830-1744301700-1744310700@www.firstladiesyouthleadershipfdn.org
SUMMARY:No Meeting Due to Spring Break
DESCRIPTION:
URL:https://www.firstladiesyouthleadershipfdn.org/event/thursday-afterschool-meet-up-12/
END:VEVENT
BEGIN:VEVENT
DTSTART;VALUE=DATE:20250406
DTEND;VALUE=DATE:20250414
DTSTAMP:20260421T031455
CREATED:20250217T150343Z
LAST-MODIFIED:20250217T150343Z
UID:7985-1743897600-1744588799@www.firstladiesyouthleadershipfdn.org
SUMMARY:Spring Break
DESCRIPTION:
URL:https://www.firstladiesyouthleadershipfdn.org/event/spring-break/
END:VEVENT
BEGIN:VEVENT
DTSTART;VALUE=DATE:20250405
DTEND;VALUE=DATE:20250406
DTSTAMP:20260421T031455
CREATED:20250305T163810Z
LAST-MODIFIED:20250305T163810Z
UID:8066-1743811200-1743897599@www.firstladiesyouthleadershipfdn.org
SUMMARY:Make A Change Service Saturday
DESCRIPTION:
URL:https://www.firstladiesyouthleadershipfdn.org/event/make-a-change-service-saturday-3/
ATTACH;FMTTYPE=image/jpeg:https://www.firstladiesyouthleadershipfdn.org/wp-content/uploads/2024/05/gallery-8-img-35-1.jpg
END:VEVENT
BEGIN:VEVENT
DTSTART;TZID=UTC:20250403T183000
DTEND;TZID=UTC:20250403T193000
DTSTAMP:20260421T031455
CREATED:20241203T201518Z
LAST-MODIFIED:20250310T181637Z
UID:7889-1743705000-1743708600@www.firstladiesyouthleadershipfdn.org
SUMMARY:First Ladies Family Network Circle Meeting
DESCRIPTION:
URL:https://www.firstladiesyouthleadershipfdn.org/event/family-meeting-3/
END:VEVENT
END:VCALENDAR