BEGIN:VCALENDAR
VERSION:2.0
PRODID:-//The First Ladies Youth Leadership Foundation, Inc - ECPv6.15.20//NONSGML v1.0//EN
CALSCALE:GREGORIAN
METHOD:PUBLISH
X-WR-CALNAME:The First Ladies Youth Leadership Foundation, Inc
X-ORIGINAL-URL:https://www.firstladiesyouthleadershipfdn.org
X-WR-CALDESC:Events for The First Ladies Youth Leadership Foundation, Inc
REFRESH-INTERVAL;VALUE=DURATION:PT1H
X-Robots-Tag:noindex
X-PUBLISHED-TTL:PT1H
BEGIN:VTIMEZONE
TZID:UTC
BEGIN:STANDARD
TZOFFSETFROM:+0000
TZOFFSETTO:+0000
TZNAME:UTC
DTSTART:20230101T000000
END:STANDARD
END:VTIMEZONE
BEGIN:VEVENT
DTSTART;VALUE=DATE:20250308
DTEND;VALUE=DATE:20250309
DTSTAMP:20260421T043706
CREATED:20220711T152751Z
LAST-MODIFIED:20240509T181756Z
UID:6223-1741392000-1741478399@www.firstladiesyouthleadershipfdn.org
SUMMARY:International Women's Day
DESCRIPTION:International Women’s Day (March 8) is a global day celebrating the social\, economic\, cultural\, and political achievements of women. The day also marks a call to action for accelerating women’s equality. \n\n\n\nIWD has occurred for well over a century\, with the first IWD gathering in 1911 supported by over a million people. Today\, IWD belongs to all groups collectively everywhere. \n\n\ninternationalwomensday.com
URL:https://www.firstladiesyouthleadershipfdn.org/event/international-womens-day/
ATTACH;FMTTYPE=image/jpeg:https://www.firstladiesyouthleadershipfdn.org/wp-content/uploads/2022/07/First-Ladies-Calendar-Featured-Image-Template-IWD.jpg
END:VEVENT
BEGIN:VEVENT
DTSTART;TZID=UTC:20250306T160000
DTEND;TZID=UTC:20250306T190000
DTSTAMP:20260421T043706
CREATED:20241203T194944Z
LAST-MODIFIED:20250226T144149Z
UID:7820-1741276800-1741287600@www.firstladiesyouthleadershipfdn.org
SUMMARY:Thursday Afterschool Meet-Up/Picture Day
DESCRIPTION:First Ladies of MMS and SMS will meet from 4:15pm – 5:30pm\nFirst Ladies of EDC will meet from 4:30 pm – 5:45 pm\nHigh School First Ladies will meet from 5:30pm-6:45pm.\n**Picture Day – 6p-7p (High School Meeting Location)
URL:https://www.firstladiesyouthleadershipfdn.org/event/thursday-afterschool-meet-up-7/
END:VEVENT
BEGIN:VEVENT
DTSTART;TZID=UTC:20250304T183000
DTEND;TZID=UTC:20250304T194500
DTSTAMP:20260421T043706
CREATED:20241203T201234Z
LAST-MODIFIED:20241210T193157Z
UID:7879-1741113000-1741117500@www.firstladiesyouthleadershipfdn.org
SUMMARY:First Ladies Team Meeting
DESCRIPTION:
URL:https://www.firstladiesyouthleadershipfdn.org/event/adult-mentor-meeting-3/
END:VEVENT
BEGIN:VEVENT
DTSTART;TZID=UTC:20250227T161500
DTEND;TZID=UTC:20250227T184500
DTSTAMP:20260421T043706
CREATED:20241203T194856Z
LAST-MODIFIED:20250226T143830Z
UID:7818-1740672900-1740681900@www.firstladiesyouthleadershipfdn.org
SUMMARY:Thursday Afterschool Meet-Up || Bank of America Financial Literacy Challenge Launches
DESCRIPTION:First Ladies of MMS and SMS will meet from 4:15pm – 5:30pm\nFirst Ladies of EDC will meet from 4:30 pm – 5:45 pm\nHigh School First Ladies will meet from 5:30pm-6:45pm.
URL:https://www.firstladiesyouthleadershipfdn.org/event/thursday-afterschool-meet-up-6/
END:VEVENT
BEGIN:VEVENT
DTSTART;TZID=UTC:20250226T183000
DTEND;TZID=UTC:20250226T200000
DTSTAMP:20260421T043706
CREATED:20241203T193524Z
LAST-MODIFIED:20241210T194320Z
UID:7792-1740594600-1740600000@www.firstladiesyouthleadershipfdn.org
SUMMARY:C.O.R.E Leadership Meeting
DESCRIPTION:
URL:https://www.firstladiesyouthleadershipfdn.org/event/c-o-r-e-team-meeting-4/
END:VEVENT
BEGIN:VEVENT
DTSTART;TZID=UTC:20250223T154500
DTEND;TZID=UTC:20250223T180000
DTSTAMP:20260421T043706
CREATED:20230831T223255Z
LAST-MODIFIED:20250217T145520Z
UID:6782-1740325500-1740333600@www.firstladiesyouthleadershipfdn.org
SUMMARY:A Signature Winter's Tea & A Dining Etiquette Extravaganza
DESCRIPTION:It’s Team Time… \nWelcome to a Signature Winter’s Tea Fundraiser! \nJoin First Ladies and the ladies of SheExcels for a delightful afternoon tea filled with exquisite teas\, wonderful pastries and decadent sweets\, all for a great cause.  \nFor three years\, First Ladies has been hosting afternoon tea with the intent of exposing our mentees to the art of tea and dining etiquette while simultaneously creating a memorable multi-generational bonding experience between our emerging ladies\, their mentors\, families\, friends and the community. \nThis year will be no less than the caliber of service provided at our inaugural tea\, but we are adding a fundraising element to aid in raising funds for our middle and high school students attending a 1-day out-of-state Spring college trip. \nHeld at the Villa Christina\, this fundraiser will feature a 5 star dining etiquette introduction from CEO and Executive Trainer\, Mrs. Rhonda Hudson of The Treasure Box. While guests sip on lovely teas and enjoy the breathtaking setting\, DJ Sharp will keep the atmosphere lively. \nClick here for more details and to purchase a ticket Purchase Tickets Here:
URL:https://www.firstladiesyouthleadershipfdn.org/event/christmas-dining-etiquette-extravaganza/
LOCATION:Villa Christina Atlanta Perimeter
ATTACH;FMTTYPE=image/jpeg:https://www.firstladiesyouthleadershipfdn.org/wp-content/uploads/2024/06/gallery-48-img-4096.jpg
END:VEVENT
BEGIN:VEVENT
DTSTART;TZID=UTC:20250222T110000
DTEND;TZID=UTC:20250222T133000
DTSTAMP:20260421T043706
CREATED:20241203T201004Z
LAST-MODIFIED:20250207T161826Z
UID:7869-1740222000-1740231000@www.firstladiesyouthleadershipfdn.org
SUMMARY:Scholarship Committee Meeting(In-Person)
DESCRIPTION:
URL:https://www.firstladiesyouthleadershipfdn.org/event/scholarship-committee-meeting-2/
LOCATION:The Gathering Spot\, 384 Northyards Blvd NW\, Atlanta\, Georgia\, 30313
END:VEVENT
BEGIN:VEVENT
DTSTART;TZID=UTC:20250220T081500
DTEND;TZID=UTC:20250220T184500
DTSTAMP:20260421T043706
CREATED:20241203T194819Z
LAST-MODIFIED:20250217T145336Z
UID:7816-1740039300-1740077100@www.firstladiesyouthleadershipfdn.org
SUMMARY:Thursday Afterschool Meet-Up - No Meeting Due to February Break
DESCRIPTION:
URL:https://www.firstladiesyouthleadershipfdn.org/event/thursday-afterschool-meet-up-5/
END:VEVENT
BEGIN:VEVENT
DTSTART;TZID=UTC:20250213T161500
DTEND;TZID=UTC:20250213T184500
DTSTAMP:20260421T043706
CREATED:20241203T194736Z
LAST-MODIFIED:20250217T143814Z
UID:7814-1739463300-1739472300@www.firstladiesyouthleadershipfdn.org
SUMMARY:Thursday Afterschool Meet-Up
DESCRIPTION:First Ladies of MMS and SMS will meet from 4:15pm – 5:30pm\nFirst Ladies of EDC will meet from 4:30 pm – 5:45 pm\nHigh School First Ladies will meet from 5:30pm-6:45pm.
URL:https://www.firstladiesyouthleadershipfdn.org/event/thursday-afterschool-meet-up-4/
END:VEVENT
BEGIN:VEVENT
DTSTART;TZID=UTC:20250211T190000
DTEND;TZID=UTC:20250211T200000
DTSTAMP:20260421T043706
CREATED:20241203T201411Z
LAST-MODIFIED:20241210T193920Z
UID:7885-1739300400-1739304000@www.firstladiesyouthleadershipfdn.org
SUMMARY:First Ladies Family Network Circle Meeting
DESCRIPTION:
URL:https://www.firstladiesyouthleadershipfdn.org/event/family-meeting/
END:VEVENT
BEGIN:VEVENT
DTSTART;VALUE=DATE:20250208
DTEND;VALUE=DATE:20250321
DTSTAMP:20260421T043706
CREATED:20250207T175236Z
LAST-MODIFIED:20250305T184512Z
UID:7977-1738972800-1742515199@www.firstladiesyouthleadershipfdn.org
SUMMARY:First Ladies 2025 Wall Calendar Fundraiser
DESCRIPTION:Calendar Patrons Can Pre-order Calendars via Eventbrite or at the First Ladies Signature Winter’s Tea thru March 8 by https://www.eventbrite.com/e/1227023834319
URL:https://www.firstladiesyouthleadershipfdn.org/event/first-ladies-2025-wall-calendar-fundraiser/
ATTACH;FMTTYPE=image/png:https://www.firstladiesyouthleadershipfdn.org/wp-content/uploads/2024/06/one-girl-banner-3.png
END:VEVENT
BEGIN:VEVENT
DTSTART;VALUE=DATE:20250208
DTEND;VALUE=DATE:20250209
DTSTAMP:20260421T043706
CREATED:20241203T200514Z
LAST-MODIFIED:20250207T161030Z
UID:7857-1738972800-1739059199@www.firstladiesyouthleadershipfdn.org
SUMMARY:Make a Change Saturday (Rescheduled)
DESCRIPTION:
URL:https://www.firstladiesyouthleadershipfdn.org/event/make-a-change-saturday-tentative/
END:VEVENT
BEGIN:VEVENT
DTSTART;TZID=UTC:20250206T161500
DTEND;TZID=UTC:20250206T184500
DTSTAMP:20260421T043706
CREATED:20241203T194658Z
LAST-MODIFIED:20241210T192841Z
UID:7812-1738858500-1738867500@www.firstladiesyouthleadershipfdn.org
SUMMARY:Thursday Afterschool Meet-Up
DESCRIPTION:First Ladies of MMS and SMS will meet from 4:15pm – 5:30pm\nFirst Ladies of EDC will meet from 4:30 pm – 5:45 pm\nHigh School First Ladies will meet from 5:30pm-6:45pm.
URL:https://www.firstladiesyouthleadershipfdn.org/event/thursday-afterschool-meet-up-3/
END:VEVENT
BEGIN:VEVENT
DTSTART;TZID=UTC:20250204T183000
DTEND;TZID=UTC:20250204T194500
DTSTAMP:20260421T043706
CREATED:20241203T201206Z
LAST-MODIFIED:20241210T193018Z
UID:7877-1738693800-1738698300@www.firstladiesyouthleadershipfdn.org
SUMMARY:First Ladies Team Meeting
DESCRIPTION:
URL:https://www.firstladiesyouthleadershipfdn.org/event/adult-mentor-meeting-2/
END:VEVENT
BEGIN:VEVENT
DTSTART;TZID=UTC:20250130T161500
DTEND;TZID=UTC:20250130T184500
DTSTAMP:20260421T043706
CREATED:20241203T194534Z
LAST-MODIFIED:20241210T192916Z
UID:7810-1738253700-1738262700@www.firstladiesyouthleadershipfdn.org
SUMMARY:Thursday Afterschool Meet-Up
DESCRIPTION:First Ladies of MMS and SMS will meet from 4:15pm – 5:30pm\nFirst Ladies of EDC will meet from 4:30 pm – 5:45 pm\nHigh School First Ladies will meet from 5:30pm-6:45pm.
URL:https://www.firstladiesyouthleadershipfdn.org/event/thursday-afterschool-meet-up-2/
END:VEVENT
BEGIN:VEVENT
DTSTART;TZID=UTC:20250123T161500
DTEND;TZID=UTC:20250123T184500
DTSTAMP:20260421T043706
CREATED:20241203T194420Z
LAST-MODIFIED:20250108T145640Z
UID:7808-1737648900-1737657900@www.firstladiesyouthleadershipfdn.org
SUMMARY:Thursday Afterschool Meet-Up
DESCRIPTION:First Ladies of MMS and SMS will meet from 4:15pm – 5:30pm\nFirst Ladies of EDC will meet from 4:30 pm – 5:45 pm\nHigh School First Ladies will meet from 5:30pm-6:45pm.
URL:https://www.firstladiesyouthleadershipfdn.org/event/thursday-afterschool-meet-up/
END:VEVENT
BEGIN:VEVENT
DTSTART;VALUE=DATE:20250117
DTEND;VALUE=DATE:20250120
DTSTAMP:20260421T043706
CREATED:20241203T195845Z
LAST-MODIFIED:20250111T023403Z
UID:7844-1737072000-1737331199@www.firstladiesyouthleadershipfdn.org
SUMMARY:The Re-Launch (Martin Luther King Jr. Holiday Weekend)
DESCRIPTION:Commemorate the legacy of Dr. Martin Luther King Jr. and celebrate womanhood! \n2025 Kick-off Family Circle (Parent\, Mentee and Mentor Meeting) – Friday:7pm-9pm\nFirst Ladies Day @ the Atlanta History Center – Saturday: 9:45am-4pm\nMake A Change Community Service Day – Sunday: 10:45a.m. – 3pm \nClick this link for more information about Saturday’s awesome schedule of events.
URL:https://www.firstladiesyouthleadershipfdn.org/event/the-re-launch-tentative/
END:VEVENT
BEGIN:VEVENT
DTSTART;TZID=UTC:20250115T173000
DTEND;TZID=UTC:20250115T193000
DTSTAMP:20260421T043706
CREATED:20241205T185421Z
LAST-MODIFIED:20250111T022900Z
UID:7893-1736962200-1736969400@www.firstladiesyouthleadershipfdn.org
SUMMARY:First Ladies Team Retreat (Moved from January 11)
DESCRIPTION:
URL:https://www.firstladiesyouthleadershipfdn.org/event/first-ladies-team-meetingtentative/
ATTACH;FMTTYPE=image/png:https://www.firstladiesyouthleadershipfdn.org/wp-content/uploads/2024/05/our-work.png
END:VEVENT
BEGIN:VEVENT
DTSTART;VALUE=DATE:20250106
DTEND;VALUE=DATE:20250107
DTSTAMP:20260421T043706
CREATED:20231220T152738Z
LAST-MODIFIED:20241210T191954Z
UID:7077-1736121600-1736207999@www.firstladiesyouthleadershipfdn.org
SUMMARY:RCPS & HCPS Schools Re-Open
DESCRIPTION:
URL:https://www.firstladiesyouthleadershipfdn.org/event/rcps-schools-re-open/
ATTACH;FMTTYPE=image/jpeg:https://www.firstladiesyouthleadershipfdn.org/wp-content/uploads/2023/08/FL-PIC-1.jpeg
END:VEVENT
BEGIN:VEVENT
DTSTART;VALUE=DATE:20250102
DTEND;VALUE=DATE:20250110
DTSTAMP:20260421T043706
CREATED:20230831T222959Z
LAST-MODIFIED:20241210T191923Z
UID:6780-1735776000-1736467199@www.firstladiesyouthleadershipfdn.org
SUMMARY:No Meeting During Winter Holidays
DESCRIPTION:Happy Holidays!
URL:https://www.firstladiesyouthleadershipfdn.org/event/no-meeting-during-holidays/
ATTACH;FMTTYPE=image/jpeg:https://www.firstladiesyouthleadershipfdn.org/wp-content/uploads/2023/08/snowflake-gettyimages-612398826-4225188366.jpeg
END:VEVENT
BEGIN:VEVENT
DTSTART;VALUE=DATE:20250101
DTEND;VALUE=DATE:20250102
DTSTAMP:20260421T043706
CREATED:20230926T161007Z
LAST-MODIFIED:20241112T170742Z
UID:6855-1735689600-1735775999@www.firstladiesyouthleadershipfdn.org
SUMMARY:New Years Day || Happy New Years!
DESCRIPTION:
URL:https://www.firstladiesyouthleadershipfdn.org/event/new-years-day-happy-new-years/
ATTACH;FMTTYPE=image/jpeg:https://www.firstladiesyouthleadershipfdn.org/wp-content/uploads/2023/08/FL-PIC.jpeg
END:VEVENT
BEGIN:VEVENT
DTSTART;VALUE=DATE:20241222
DTEND;VALUE=DATE:20250110
DTSTAMP:20260421T043706
CREATED:20241203T200315Z
LAST-MODIFIED:20241210T192712Z
UID:7854-1734825600-1736467199@www.firstladiesyouthleadershipfdn.org
SUMMARY:Winter Break
DESCRIPTION:
URL:https://www.firstladiesyouthleadershipfdn.org/event/winter-break/
END:VEVENT
BEGIN:VEVENT
DTSTART;TZID=UTC:20241221T140000
DTEND;TZID=UTC:20241221T170000
DTSTAMP:20260421T043706
CREATED:20241205T185735Z
LAST-MODIFIED:20241205T185735Z
UID:7897-1734789600-1734800400@www.firstladiesyouthleadershipfdn.org
SUMMARY:Big Toy Giveaway
DESCRIPTION:
URL:https://www.firstladiesyouthleadershipfdn.org/event/big-toy-giveaway/
END:VEVENT
BEGIN:VEVENT
DTSTART;TZID=UTC:20241221T100000
DTEND;TZID=UTC:20241221T140000
DTSTAMP:20260421T043706
CREATED:20241205T185541Z
LAST-MODIFIED:20241205T185541Z
UID:7895-1734775200-1734789600@www.firstladiesyouthleadershipfdn.org
SUMMARY:Jr. CREDC Council
DESCRIPTION:
URL:https://www.firstladiesyouthleadershipfdn.org/event/jr-credc-council/
END:VEVENT
BEGIN:VEVENT
DTSTART;TZID=UTC:20241214T100000
DTEND;TZID=UTC:20241214T120000
DTSTAMP:20260421T043706
CREATED:20241203T200241Z
LAST-MODIFIED:20241210T194039Z
UID:7852-1734170400-1734177600@www.firstladiesyouthleadershipfdn.org
SUMMARY:Make a Change Service Saturday
DESCRIPTION:
URL:https://www.firstladiesyouthleadershipfdn.org/event/make-a-change-service-saturday-2/
LOCATION:Jonesboro Nursing and Rehabilitation Center
END:VEVENT
BEGIN:VEVENT
DTSTART;TZID=UTC:20241212T081500
DTEND;TZID=UTC:20241212T184500
DTSTAMP:20260421T043706
CREATED:20241101T181014Z
LAST-MODIFIED:20241210T192657Z
UID:7728-1733991300-1734029100@www.firstladiesyouthleadershipfdn.org
SUMMARY:Thursday Afterschool Meet-Up(Last Semester 1 Meeting)
DESCRIPTION:SMS and MMS Middle School First Ladies will meet from 4:15pm-5:30pm\nEDC Middle School First Ladies will meet virtually. See parent GroupMe.\nHigh School First Ladies will meet from 5:30pm-6:45pm.
URL:https://www.firstladiesyouthleadershipfdn.org/event/thursday-first-ladies-meeting-6/
ATTACH;FMTTYPE=image/jpeg:https://www.firstladiesyouthleadershipfdn.org/wp-content/uploads/2023/08/FL-PIC-1.jpeg
END:VEVENT
BEGIN:VEVENT
DTSTART;TZID=UTC:20241210T190000
DTEND;TZID=UTC:20241210T200000
DTSTAMP:20260421T043706
CREATED:20241107T201317Z
LAST-MODIFIED:20241210T191307Z
UID:7763-1733857200-1733860800@www.firstladiesyouthleadershipfdn.org
SUMMARY:First Ladies Family Network Circle Meeting
DESCRIPTION:
URL:https://www.firstladiesyouthleadershipfdn.org/event/parent-meeting-2/
ATTACH;FMTTYPE=image/jpeg:https://www.firstladiesyouthleadershipfdn.org/wp-content/uploads/2024/04/volunteer-1-scaled.jpg
END:VEVENT
BEGIN:VEVENT
DTSTART;VALUE=DATE:20241207
DTEND;VALUE=DATE:20241208
DTSTAMP:20260421T043706
CREATED:20241203T200218Z
LAST-MODIFIED:20241205T191847Z
UID:7850-1733529600-1733615999@www.firstladiesyouthleadershipfdn.org
SUMMARY:Make a Change Service Saturday
DESCRIPTION:
URL:https://www.firstladiesyouthleadershipfdn.org/event/make-a-change-service-saturday/
LOCATION:Rockdale County Hospital
END:VEVENT
BEGIN:VEVENT
DTSTART;TZID=UTC:20241204T183000
DTEND;TZID=UTC:20241204T194500
DTSTAMP:20260421T043706
CREATED:20241203T194018Z
LAST-MODIFIED:20241210T192419Z
UID:7803-1733337000-1733341500@www.firstladiesyouthleadershipfdn.org
SUMMARY:First Ladies Team Meeting
DESCRIPTION:
URL:https://www.firstladiesyouthleadershipfdn.org/event/adult-mentor-meeting/
END:VEVENT
BEGIN:VEVENT
DTSTART;TZID=UTC:20241203T183000
DTEND;TZID=UTC:20241203T200000
DTSTAMP:20260421T043706
CREATED:20241203T193345Z
LAST-MODIFIED:20241210T194356Z
UID:7788-1733250600-1733256000@www.firstladiesyouthleadershipfdn.org
SUMMARY:C.O.R.E Leadership Meeting
DESCRIPTION:
URL:https://www.firstladiesyouthleadershipfdn.org/event/c-o-r-e-team-meeting-2/
END:VEVENT
END:VCALENDAR