BEGIN:VCALENDAR
VERSION:2.0
PRODID:-//The First Ladies Youth Leadership Foundation, Inc - ECPv6.15.20//NONSGML v1.0//EN
CALSCALE:GREGORIAN
METHOD:PUBLISH
X-WR-CALNAME:The First Ladies Youth Leadership Foundation, Inc
X-ORIGINAL-URL:https://www.firstladiesyouthleadershipfdn.org
X-WR-CALDESC:Events for The First Ladies Youth Leadership Foundation, Inc
REFRESH-INTERVAL;VALUE=DURATION:PT1H
X-Robots-Tag:noindex
X-PUBLISHED-TTL:PT1H
BEGIN:VTIMEZONE
TZID:UTC
BEGIN:STANDARD
TZOFFSETFROM:+0000
TZOFFSETTO:+0000
TZNAME:UTC
DTSTART:20230101T000000
END:STANDARD
END:VTIMEZONE
BEGIN:VEVENT
DTSTART;TZID=UTC:20241221T140000
DTEND;TZID=UTC:20241221T170000
DTSTAMP:20260421T052520
CREATED:20241205T185735Z
LAST-MODIFIED:20241205T185735Z
UID:7897-1734789600-1734800400@www.firstladiesyouthleadershipfdn.org
SUMMARY:Big Toy Giveaway
DESCRIPTION:
URL:https://www.firstladiesyouthleadershipfdn.org/event/big-toy-giveaway/
END:VEVENT
BEGIN:VEVENT
DTSTART;TZID=UTC:20241221T100000
DTEND;TZID=UTC:20241221T140000
DTSTAMP:20260421T052520
CREATED:20241205T185541Z
LAST-MODIFIED:20241205T185541Z
UID:7895-1734775200-1734789600@www.firstladiesyouthleadershipfdn.org
SUMMARY:Jr. CREDC Council
DESCRIPTION:
URL:https://www.firstladiesyouthleadershipfdn.org/event/jr-credc-council/
END:VEVENT
BEGIN:VEVENT
DTSTART;TZID=UTC:20241214T100000
DTEND;TZID=UTC:20241214T120000
DTSTAMP:20260421T052520
CREATED:20241203T200241Z
LAST-MODIFIED:20241210T194039Z
UID:7852-1734170400-1734177600@www.firstladiesyouthleadershipfdn.org
SUMMARY:Make a Change Service Saturday
DESCRIPTION:
URL:https://www.firstladiesyouthleadershipfdn.org/event/make-a-change-service-saturday-2/
LOCATION:Jonesboro Nursing and Rehabilitation Center
END:VEVENT
BEGIN:VEVENT
DTSTART;TZID=UTC:20241212T081500
DTEND;TZID=UTC:20241212T184500
DTSTAMP:20260421T052520
CREATED:20241101T181014Z
LAST-MODIFIED:20241210T192657Z
UID:7728-1733991300-1734029100@www.firstladiesyouthleadershipfdn.org
SUMMARY:Thursday Afterschool Meet-Up(Last Semester 1 Meeting)
DESCRIPTION:SMS and MMS Middle School First Ladies will meet from 4:15pm-5:30pm\nEDC Middle School First Ladies will meet virtually. See parent GroupMe.\nHigh School First Ladies will meet from 5:30pm-6:45pm.
URL:https://www.firstladiesyouthleadershipfdn.org/event/thursday-first-ladies-meeting-6/
ATTACH;FMTTYPE=image/jpeg:https://www.firstladiesyouthleadershipfdn.org/wp-content/uploads/2023/08/FL-PIC-1.jpeg
END:VEVENT
BEGIN:VEVENT
DTSTART;TZID=UTC:20241210T190000
DTEND;TZID=UTC:20241210T200000
DTSTAMP:20260421T052520
CREATED:20241107T201317Z
LAST-MODIFIED:20241210T191307Z
UID:7763-1733857200-1733860800@www.firstladiesyouthleadershipfdn.org
SUMMARY:First Ladies Family Network Circle Meeting
DESCRIPTION:
URL:https://www.firstladiesyouthleadershipfdn.org/event/parent-meeting-2/
ATTACH;FMTTYPE=image/jpeg:https://www.firstladiesyouthleadershipfdn.org/wp-content/uploads/2024/04/volunteer-1-scaled.jpg
END:VEVENT
BEGIN:VEVENT
DTSTART;VALUE=DATE:20241207
DTEND;VALUE=DATE:20241208
DTSTAMP:20260421T052520
CREATED:20241203T200218Z
LAST-MODIFIED:20241205T191847Z
UID:7850-1733529600-1733615999@www.firstladiesyouthleadershipfdn.org
SUMMARY:Make a Change Service Saturday
DESCRIPTION:
URL:https://www.firstladiesyouthleadershipfdn.org/event/make-a-change-service-saturday/
LOCATION:Rockdale County Hospital
END:VEVENT
BEGIN:VEVENT
DTSTART;TZID=UTC:20241204T183000
DTEND;TZID=UTC:20241204T194500
DTSTAMP:20260421T052520
CREATED:20241203T194018Z
LAST-MODIFIED:20241210T192419Z
UID:7803-1733337000-1733341500@www.firstladiesyouthleadershipfdn.org
SUMMARY:First Ladies Team Meeting
DESCRIPTION:
URL:https://www.firstladiesyouthleadershipfdn.org/event/adult-mentor-meeting/
END:VEVENT
BEGIN:VEVENT
DTSTART;TZID=UTC:20241203T183000
DTEND;TZID=UTC:20241203T200000
DTSTAMP:20260421T052520
CREATED:20241203T193345Z
LAST-MODIFIED:20241210T194356Z
UID:7788-1733250600-1733256000@www.firstladiesyouthleadershipfdn.org
SUMMARY:C.O.R.E Leadership Meeting
DESCRIPTION:
URL:https://www.firstladiesyouthleadershipfdn.org/event/c-o-r-e-team-meeting-2/
END:VEVENT
BEGIN:VEVENT
DTSTART;VALUE=DATE:20241128
DTEND;VALUE=DATE:20241129
DTSTAMP:20260421T052520
CREATED:20230922T213121Z
LAST-MODIFIED:20241112T170054Z
UID:6815-1732752000-1732838399@www.firstladiesyouthleadershipfdn.org
SUMMARY:No Meeting (Thanksgiving Holiday)
DESCRIPTION:First Ladies wishes you and your family a blessed Thanksgiving! Enjoy and be safe.
URL:https://www.firstladiesyouthleadershipfdn.org/event/no-meeting-thanksgiving-holiday/
END:VEVENT
BEGIN:VEVENT
DTSTART;VALUE=DATE:20241124
DTEND;VALUE=DATE:20241201
DTSTAMP:20260421T052520
CREATED:20221001T194413Z
LAST-MODIFIED:20241112T170420Z
UID:6465-1732406400-1733011199@www.firstladiesyouthleadershipfdn.org
SUMMARY:Thanksgiving Break - NO AFTERSCHOOL MENTORING
DESCRIPTION:
URL:https://www.firstladiesyouthleadershipfdn.org/event/thanksgiving-break-no-meetings/
END:VEVENT
BEGIN:VEVENT
DTSTART;TZID=UTC:20241119T183000
DTEND;TZID=UTC:20241119T193000
DTSTAMP:20260421T052520
CREATED:20241107T201419Z
LAST-MODIFIED:20241112T191803Z
UID:7767-1732041000-1732044600@www.firstladiesyouthleadershipfdn.org
SUMMARY:Mentor Meeting
DESCRIPTION:
URL:https://www.firstladiesyouthleadershipfdn.org/event/mentor-meeting/
ATTACH;FMTTYPE=image/jpeg:https://www.firstladiesyouthleadershipfdn.org/wp-content/uploads/2024/04/volunteer-1-scaled.jpg
END:VEVENT
BEGIN:VEVENT
DTSTART;TZID=UTC:20241116T173000
DTEND;TZID=UTC:20241116T183000
DTSTAMP:20260421T052520
CREATED:20241112T164817Z
LAST-MODIFIED:20241112T192308Z
UID:7773-1731778200-1731781800@www.firstladiesyouthleadershipfdn.org
SUMMARY:JR. CREDC (Conyers Rockdale Economic Development Council)
DESCRIPTION:Students’ decisions with official meeting date will be announced by November 16\nFirst Meeting is scheduled for November 2024
URL:https://www.firstladiesyouthleadershipfdn.org/event/jr-credc-conyers-rockdale-economic-development-council/
ATTACH;FMTTYPE=image/jpeg:https://www.firstladiesyouthleadershipfdn.org/wp-content/uploads/2024/04/volunteer-1-scaled.jpg
END:VEVENT
BEGIN:VEVENT
DTSTART;TZID=UTC:20241114T161500
DTEND;TZID=UTC:20241114T184500
DTSTAMP:20260421T052520
CREATED:20241101T180443Z
LAST-MODIFIED:20241112T191344Z
UID:7720-1731600900-1731609900@www.firstladiesyouthleadershipfdn.org
SUMMARY:Thursday Afterschool Meet-Up
DESCRIPTION:SMS and MMS Middle School First Ladies will meet from 4:15pm-5:30pm\nEDC Middle School First Ladies will meet from 4:30pm-5:45pm.\nHigh School First Ladies will meet from 5:30pm-6:45pm.
URL:https://www.firstladiesyouthleadershipfdn.org/event/thursday-first-ladies-meeting-2/
ATTACH;FMTTYPE=image/jpeg:https://www.firstladiesyouthleadershipfdn.org/wp-content/uploads/2023/08/FL-PIC-1.jpeg
END:VEVENT
BEGIN:VEVENT
DTSTART;TZID=UTC:20241113T183000
DTEND;TZID=UTC:20241113T193000
DTSTAMP:20260421T052520
CREATED:20241107T201353Z
LAST-MODIFIED:20241112T191710Z
UID:7765-1731522600-1731526200@www.firstladiesyouthleadershipfdn.org
SUMMARY:C.O.R.E Team Meeting
DESCRIPTION:
URL:https://www.firstladiesyouthleadershipfdn.org/event/c-o-r-e-team-meeting/
ATTACH;FMTTYPE=image/jpeg:https://www.firstladiesyouthleadershipfdn.org/wp-content/uploads/2024/04/volunteer-1-scaled.jpg
END:VEVENT
BEGIN:VEVENT
DTSTART;TZID=UTC:20241112T183000
DTEND;TZID=UTC:20241112T193000
DTSTAMP:20260421T052520
CREATED:20241107T201448Z
LAST-MODIFIED:20241112T191640Z
UID:7769-1731436200-1731439800@www.firstladiesyouthleadershipfdn.org
SUMMARY:Scholarship Committee Meeting
DESCRIPTION:
URL:https://www.firstladiesyouthleadershipfdn.org/event/scholarship-committee-meeting/
ATTACH;FMTTYPE=image/jpeg:https://www.firstladiesyouthleadershipfdn.org/wp-content/uploads/2024/04/volunteer-1-scaled.jpg
END:VEVENT
BEGIN:VEVENT
DTSTART;VALUE=DATE:20241111
DTEND;VALUE=DATE:20241112
DTSTAMP:20260421T052520
CREATED:20230922T212101Z
LAST-MODIFIED:20241112T192430Z
UID:6807-1731283200-1731369599@www.firstladiesyouthleadershipfdn.org
SUMMARY:Veterans Day
DESCRIPTION:
URL:https://www.firstladiesyouthleadershipfdn.org/event/veterans-day/
ATTACH;FMTTYPE=image/jpeg:https://www.firstladiesyouthleadershipfdn.org/wp-content/uploads/2024/04/volunteer-1-scaled.jpg
END:VEVENT
BEGIN:VEVENT
DTSTART;TZID=UTC:20241108T190000
DTEND;TZID=UTC:20241109T070000
DTSTAMP:20260421T052520
CREATED:20241107T200542Z
LAST-MODIFIED:20241112T192342Z
UID:7755-1731092400-1731135600@www.firstladiesyouthleadershipfdn.org
SUMMARY:Make a Change Service Day: Night Without A Bed Youth Lock-In
DESCRIPTION:
URL:https://www.firstladiesyouthleadershipfdn.org/event/make-a-change-service-day-night-without-a-bed-youth-lock-in/
ATTACH;FMTTYPE=image/jpeg:https://www.firstladiesyouthleadershipfdn.org/wp-content/uploads/2024/04/volunteer-1-scaled.jpg
END:VEVENT
BEGIN:VEVENT
DTSTART;TZID=UTC:20241107T161500
DTEND;TZID=UTC:20241107T184500
DTSTAMP:20260421T052520
CREATED:20241101T180320Z
LAST-MODIFIED:20241112T192154Z
UID:7718-1730996100-1731005100@www.firstladiesyouthleadershipfdn.org
SUMMARY:Thursday Afterschool Meet-Up
DESCRIPTION:Middle School First Ladies will meet from 4:15pm-5:30pm;\nHigh School First Ladies will meet at 5:30pm-6:45pm.
URL:https://www.firstladiesyouthleadershipfdn.org/event/thursday-first-ladies-meeting/
ATTACH;FMTTYPE=image/jpeg:https://www.firstladiesyouthleadershipfdn.org/wp-content/uploads/2023/08/FL-PIC-1.jpeg
END:VEVENT
BEGIN:VEVENT
DTSTART;VALUE=DATE:20241105
DTEND;VALUE=DATE:20241106
DTSTAMP:20260421T052520
CREATED:20230922T212031Z
LAST-MODIFIED:20241112T192233Z
UID:6805-1730764800-1730851199@www.firstladiesyouthleadershipfdn.org
SUMMARY:Election Day
DESCRIPTION:
URL:https://www.firstladiesyouthleadershipfdn.org/event/election-day-2/
ATTACH;FMTTYPE=image/jpeg:https://www.firstladiesyouthleadershipfdn.org/wp-content/uploads/2024/04/volunteer-1-scaled.jpg
END:VEVENT
BEGIN:VEVENT
DTSTART;VALUE=DATE:20241014
DTEND;VALUE=DATE:20241019
DTSTAMP:20260421T052520
CREATED:20240923T230745Z
LAST-MODIFIED:20240924T154525Z
UID:7692-1728864000-1729295999@www.firstladiesyouthleadershipfdn.org
SUMMARY:DCPS Fall Break
DESCRIPTION:
URL:https://www.firstladiesyouthleadershipfdn.org/event/dcps-fall-break/
END:VEVENT
BEGIN:VEVENT
DTSTART;VALUE=DATE:20241011
DTEND;VALUE=DATE:20241012
DTSTAMP:20260421T052520
CREATED:20230831T221328Z
LAST-MODIFIED:20250827T145150Z
UID:6753-1728604800-1728691199@www.firstladiesyouthleadershipfdn.org
SUMMARY:International Day of the Girl 2025
DESCRIPTION:Celebrating and Empowering Girls Worldwide! \n\n\n\n\n\n\n\n\n\n\n\n\n\n\n\nThe International Day of the Girl (IDG) – observed annually on October 11th – is a global platform to advocate for the full spectrum of girls’ rights. \nDonate Now
URL:https://www.firstladiesyouthleadershipfdn.org/event/international-day-of-the-girl-3/
LOCATION:Memorial Middle School\, 3205 Underwood Road\, Conyers\, 30013\, United States
ATTACH;FMTTYPE=image/jpeg:https://www.firstladiesyouthleadershipfdn.org/wp-content/uploads/2024/06/one-girl-banner-2.jpg
END:VEVENT
BEGIN:VEVENT
DTSTART;VALUE=DATE:20241007
DTEND;VALUE=DATE:20241012
DTSTAMP:20260421T052520
CREATED:20240923T225841Z
LAST-MODIFIED:20240924T154145Z
UID:7680-1728259200-1728691199@www.firstladiesyouthleadershipfdn.org
SUMMARY:NCPS/CCPS Fall Break
DESCRIPTION:
URL:https://www.firstladiesyouthleadershipfdn.org/event/ncps-ccps-fall-break/
END:VEVENT
BEGIN:VEVENT
DTSTART;VALUE=DATE:20240930
DTEND;VALUE=DATE:20241005
DTSTAMP:20260421T052520
CREATED:20240923T225417Z
LAST-MODIFIED:20240924T154453Z
UID:7676-1727654400-1728086399@www.firstladiesyouthleadershipfdn.org
SUMMARY:RCPS Fall Break
DESCRIPTION:
URL:https://www.firstladiesyouthleadershipfdn.org/event/rcps-fall-break-2/
END:VEVENT
BEGIN:VEVENT
DTSTART;TZID=UTC:20240927T183000
DTEND;TZID=UTC:20240927T200000
DTSTAMP:20260421T052520
CREATED:20240910T191151Z
LAST-MODIFIED:20240910T193350Z
UID:7657-1727461800-1727467200@www.firstladiesyouthleadershipfdn.org
SUMMARY:The Launch: Family/Student Orientation
DESCRIPTION:
URL:https://www.firstladiesyouthleadershipfdn.org/event/family-student-orientation-day/
LOCATION:Excel Church Worldwide || Gym\, 1151 Flat Shoals Road SE\, Conyers\, GEORGIA (GA)\, 30012\, United States
ATTACH;FMTTYPE=image/jpeg:https://www.firstladiesyouthleadershipfdn.org/wp-content/uploads/2024/06/one-girl-banner.jpg
END:VEVENT
BEGIN:VEVENT
DTSTART;VALUE=DATE:20240927
DTEND;VALUE=DATE:20240930
DTSTAMP:20260421T052520
CREATED:20230831T220851Z
LAST-MODIFIED:20240917T190118Z
UID:6745-1727395200-1727654399@www.firstladiesyouthleadershipfdn.org
SUMMARY:Signature Event || The First Ladies Annual Launch
DESCRIPTION:Welcome leaders to your 2024-2025 Year in First Ladies! \nFriday: 6:30 – 8:00 PM \nSaturday: 9:00 AM – 6:00 PM \nSunday: 10:30 AM – 5:15 PM \nMore details to come…
URL:https://www.firstladiesyouthleadershipfdn.org/event/first-ladies-fall-2023-launch/
ATTACH;FMTTYPE=image/jpeg:https://www.firstladiesyouthleadershipfdn.org/wp-content/uploads/2024/06/one-girl-banner-2.jpg
END:VEVENT
BEGIN:VEVENT
DTSTART;VALUE=DATE:20240922
DTEND;VALUE=DATE:20240923
DTSTAMP:20260421T052520
CREATED:20230922T213742Z
LAST-MODIFIED:20241112T171223Z
UID:6824-1726963200-1727049599@www.firstladiesyouthleadershipfdn.org
SUMMARY:Autumn/Fall Season Begins
DESCRIPTION:
URL:https://www.firstladiesyouthleadershipfdn.org/event/autumn-fall-season-begins/
END:VEVENT
BEGIN:VEVENT
DTSTART;TZID=UTC:20240912T180000
DTEND;TZID=UTC:20240912T193000
DTSTAMP:20260421T052520
CREATED:20240910T191646Z
LAST-MODIFIED:20240910T192825Z
UID:7659-1726164000-1726169400@www.firstladiesyouthleadershipfdn.org
SUMMARY:Virtual Adult Mentor Meeting
DESCRIPTION:  \n 
URL:https://www.firstladiesyouthleadershipfdn.org/event/virtual-mentor-meeting/
ATTACH;FMTTYPE=image/jpeg:https://www.firstladiesyouthleadershipfdn.org/wp-content/uploads/2024/04/volunteer-1-scaled.jpg
END:VEVENT
BEGIN:VEVENT
DTSTART;TZID=UTC:20240816T184500
DTEND;TZID=UTC:20240816T200000
DTSTAMP:20260421T052520
CREATED:20240809T164054Z
LAST-MODIFIED:20240810T210507Z
UID:7605-1723833900-1723838400@www.firstladiesyouthleadershipfdn.org
SUMMARY:First Ladies Interest Meeting & Girls Night-In
DESCRIPTION:Welcome to the First Ladies Interest Meeting & Girls Night In! Join us for an evening of fun\, connection\, and empowerment. This event is all about bringing together amazing girls\, women\, and their families like you to learn about the First Ladies afterschool program\, make new friends\, and support each other. Whether you’re a returning member or a first-timer\, you’re welcome here! Come ready to enjoy some quality girl time while getting great information about the 2024-25 First Ladies Application Process. In partnership with the amazing women of SheExcels\, don’t miss out on this fantastic opportunity to be a part of something special. See you there! \nTo Register Click Here: https://www.eventbrite.com/e/983900211017?aff=oddtdtcreator
URL:https://www.firstladiesyouthleadershipfdn.org/event/first-ladies-interest-meeting-girls-night-in/
LOCATION:Excel Church Worldwide || Gym\, 1151 Flat Shoals Road SE\, Conyers\, GEORGIA (GA)\, 30012\, United States
ATTACH;FMTTYPE=image/jpeg:https://www.firstladiesyouthleadershipfdn.org/wp-content/uploads/2024/06/one-girl-banner-2.jpg
END:VEVENT
BEGIN:VEVENT
DTSTART;TZID=UTC:20240815T184500
DTEND;TZID=UTC:20240815T200000
DTSTAMP:20260421T052520
CREATED:20240809T163806Z
LAST-MODIFIED:20240810T210711Z
UID:7603-1723747500-1723752000@www.firstladiesyouthleadershipfdn.org
SUMMARY:Virtual Interest Meeting
DESCRIPTION:Welcome to the Virtual First Ladies Interest Meeting! Join us on ZOOM for a meeting all about bringing together amazing girls\, women\, and their families like you to learn about the First Ladies afterschool program\, make new friends\, and support each other. Whether you’re a returning member or a first-timer\, you’re welcome here! Come ready to enjoy some quality girl time while getting great information about the 2024-25 First Ladies Application Process. In partnership with the amazing women of SheExcels\, don’t miss out on this fantastic opportunity to be a part of something special. See you there! \nRegister in advance for this meeting:\nhttps://us02web.zoom.us/meeting/register/tZYrdeqhrzMqGtMcicX2VdVhD3jFoneYxrkz \nAfter registering\, you will receive a confirmation email containing information about joining the meeting.
URL:https://www.firstladiesyouthleadershipfdn.org/event/virtual-interest-meeting-girls-night-in/
ATTACH;FMTTYPE=image/jpeg:https://www.firstladiesyouthleadershipfdn.org/wp-content/uploads/2024/06/one-girl-banner.jpg
END:VEVENT
BEGIN:VEVENT
DTSTART;TZID=UTC:20240411T163000
DTEND;TZID=UTC:20240411T183000
DTSTAMP:20260421T052520
CREATED:20240315T121739Z
LAST-MODIFIED:20240315T121739Z
UID:7125-1712853000-1712860200@www.firstladiesyouthleadershipfdn.org
SUMMARY:Final Afterschool Meet-Up for 2023-2024
DESCRIPTION:We did it! Today will be the last afterschool meeting for middle and high school First ladies. Mentors will share rehearsal dates and details for the End of Year Awards Ceremony.
URL:https://www.firstladiesyouthleadershipfdn.org/event/final-afterschool-meet-up-for-2023-2024/
ATTACH;FMTTYPE=image/jpeg:https://www.firstladiesyouthleadershipfdn.org/wp-content/uploads/2023/08/FL-PIC.jpeg
END:VEVENT
END:VCALENDAR