BEGIN:VCALENDAR
VERSION:2.0
PRODID:-//The First Ladies Youth Leadership Foundation, Inc - ECPv6.15.20//NONSGML v1.0//EN
CALSCALE:GREGORIAN
METHOD:PUBLISH
X-WR-CALNAME:The First Ladies Youth Leadership Foundation, Inc
X-ORIGINAL-URL:https://www.firstladiesyouthleadershipfdn.org
X-WR-CALDESC:Events for The First Ladies Youth Leadership Foundation, Inc
REFRESH-INTERVAL;VALUE=DURATION:PT1H
X-Robots-Tag:noindex
X-PUBLISHED-TTL:PT1H
BEGIN:VTIMEZONE
TZID:UTC
BEGIN:STANDARD
TZOFFSETFROM:+0000
TZOFFSETTO:+0000
TZNAME:UTC
DTSTART:20220101T000000
END:STANDARD
END:VTIMEZONE
BEGIN:VEVENT
DTSTART;TZID=UTC:20240912T180000
DTEND;TZID=UTC:20240912T193000
DTSTAMP:20260421T120019
CREATED:20240910T191646Z
LAST-MODIFIED:20240910T192825Z
UID:7659-1726164000-1726169400@www.firstladiesyouthleadershipfdn.org
SUMMARY:Virtual Adult Mentor Meeting
DESCRIPTION:  \n 
URL:https://www.firstladiesyouthleadershipfdn.org/event/virtual-mentor-meeting/
ATTACH;FMTTYPE=image/jpeg:https://www.firstladiesyouthleadershipfdn.org/wp-content/uploads/2024/04/volunteer-1-scaled.jpg
END:VEVENT
BEGIN:VEVENT
DTSTART;TZID=UTC:20240816T184500
DTEND;TZID=UTC:20240816T200000
DTSTAMP:20260421T120019
CREATED:20240809T164054Z
LAST-MODIFIED:20240810T210507Z
UID:7605-1723833900-1723838400@www.firstladiesyouthleadershipfdn.org
SUMMARY:First Ladies Interest Meeting & Girls Night-In
DESCRIPTION:Welcome to the First Ladies Interest Meeting & Girls Night In! Join us for an evening of fun\, connection\, and empowerment. This event is all about bringing together amazing girls\, women\, and their families like you to learn about the First Ladies afterschool program\, make new friends\, and support each other. Whether you’re a returning member or a first-timer\, you’re welcome here! Come ready to enjoy some quality girl time while getting great information about the 2024-25 First Ladies Application Process. In partnership with the amazing women of SheExcels\, don’t miss out on this fantastic opportunity to be a part of something special. See you there! \nTo Register Click Here: https://www.eventbrite.com/e/983900211017?aff=oddtdtcreator
URL:https://www.firstladiesyouthleadershipfdn.org/event/first-ladies-interest-meeting-girls-night-in/
LOCATION:Excel Church Worldwide || Gym\, 1151 Flat Shoals Road SE\, Conyers\, GEORGIA (GA)\, 30012\, United States
ATTACH;FMTTYPE=image/jpeg:https://www.firstladiesyouthleadershipfdn.org/wp-content/uploads/2024/06/one-girl-banner-2.jpg
END:VEVENT
BEGIN:VEVENT
DTSTART;TZID=UTC:20240815T184500
DTEND;TZID=UTC:20240815T200000
DTSTAMP:20260421T120019
CREATED:20240809T163806Z
LAST-MODIFIED:20240810T210711Z
UID:7603-1723747500-1723752000@www.firstladiesyouthleadershipfdn.org
SUMMARY:Virtual Interest Meeting
DESCRIPTION:Welcome to the Virtual First Ladies Interest Meeting! Join us on ZOOM for a meeting all about bringing together amazing girls\, women\, and their families like you to learn about the First Ladies afterschool program\, make new friends\, and support each other. Whether you’re a returning member or a first-timer\, you’re welcome here! Come ready to enjoy some quality girl time while getting great information about the 2024-25 First Ladies Application Process. In partnership with the amazing women of SheExcels\, don’t miss out on this fantastic opportunity to be a part of something special. See you there! \nRegister in advance for this meeting:\nhttps://us02web.zoom.us/meeting/register/tZYrdeqhrzMqGtMcicX2VdVhD3jFoneYxrkz \nAfter registering\, you will receive a confirmation email containing information about joining the meeting.
URL:https://www.firstladiesyouthleadershipfdn.org/event/virtual-interest-meeting-girls-night-in/
ATTACH;FMTTYPE=image/jpeg:https://www.firstladiesyouthleadershipfdn.org/wp-content/uploads/2024/06/one-girl-banner.jpg
END:VEVENT
BEGIN:VEVENT
DTSTART;TZID=UTC:20240411T163000
DTEND;TZID=UTC:20240411T183000
DTSTAMP:20260421T120019
CREATED:20240315T121739Z
LAST-MODIFIED:20240315T121739Z
UID:7125-1712853000-1712860200@www.firstladiesyouthleadershipfdn.org
SUMMARY:Final Afterschool Meet-Up for 2023-2024
DESCRIPTION:We did it! Today will be the last afterschool meeting for middle and high school First ladies. Mentors will share rehearsal dates and details for the End of Year Awards Ceremony.
URL:https://www.firstladiesyouthleadershipfdn.org/event/final-afterschool-meet-up-for-2023-2024/
ATTACH;FMTTYPE=image/jpeg:https://www.firstladiesyouthleadershipfdn.org/wp-content/uploads/2023/08/FL-PIC.jpeg
END:VEVENT
BEGIN:VEVENT
DTSTART;VALUE=DATE:20240406
DTEND;VALUE=DATE:20240407
DTSTAMP:20260421T120019
CREATED:20231220T153038Z
LAST-MODIFIED:20240229T155411Z
UID:7079-1712361600-1712447999@www.firstladiesyouthleadershipfdn.org
SUMMARY:Signature Event || First Ladies Annual Women Behind the Civil Rights Movement Tour
DESCRIPTION:Out of State
URL:https://www.firstladiesyouthleadershipfdn.org/event/first-ladies-women-behind-the-civil-rights-movement-out-of-state-tour-coming-soon/
ATTACH;FMTTYPE=image/jpeg:https://www.firstladiesyouthleadershipfdn.org/wp-content/uploads/2023/08/FL-PIC.jpeg
END:VEVENT
BEGIN:VEVENT
DTSTART;VALUE=DATE:20240404
DTEND;VALUE=DATE:20240405
DTSTAMP:20260421T120019
CREATED:20240315T122005Z
LAST-MODIFIED:20240315T122118Z
UID:7127-1712188800-1712275199@www.firstladiesyouthleadershipfdn.org
SUMMARY:Spring Break (No Afterschool Meet-Up)
DESCRIPTION:
URL:https://www.firstladiesyouthleadershipfdn.org/event/spring-break-no-afterschool-meet-up/
ATTACH;FMTTYPE=image/jpeg:https://www.firstladiesyouthleadershipfdn.org/wp-content/uploads/2023/08/FL-PIC.jpeg
END:VEVENT
BEGIN:VEVENT
DTSTART;VALUE=DATE:20240331
DTEND;VALUE=DATE:20240401
DTSTAMP:20260421T120019
CREATED:20240123T200202Z
LAST-MODIFIED:20240123T205732Z
UID:7102-1711843200-1711929599@www.firstladiesyouthleadershipfdn.org
SUMMARY:Easter Holiday
DESCRIPTION:
URL:https://www.firstladiesyouthleadershipfdn.org/event/easter-holiday/
ATTACH;FMTTYPE=image/jpeg:https://www.firstladiesyouthleadershipfdn.org/wp-content/uploads/2023/08/FL-PIC-1.jpeg
END:VEVENT
BEGIN:VEVENT
DTSTART;VALUE=DATE:20240329
DTEND;VALUE=DATE:20240330
DTSTAMP:20260421T120019
CREATED:20240123T200329Z
LAST-MODIFIED:20240123T200333Z
UID:7104-1711670400-1711756799@www.firstladiesyouthleadershipfdn.org
SUMMARY:Good Friday Holiday
DESCRIPTION:
URL:https://www.firstladiesyouthleadershipfdn.org/event/good-friday-holiday/
ATTACH;FMTTYPE=image/jpeg:https://www.firstladiesyouthleadershipfdn.org/wp-content/uploads/2023/08/FL-PIC-1.jpeg
END:VEVENT
BEGIN:VEVENT
DTSTART;TZID=UTC:20240323T080000
DTEND;TZID=UTC:20240323T120000
DTSTAMP:20260421T120019
CREATED:20230101T165403Z
LAST-MODIFIED:20240315T122426Z
UID:7059-1711180800-1711195200@www.firstladiesyouthleadershipfdn.org
SUMMARY:First Ladies @ RCPS Teen Leadership Summit
DESCRIPTION:Join the First Ladies “GIRL TALK” Panel at the TEEN Leadership Summit \nClick Here to Register: Teen Leadership Summit – Rockdale County Public Schools (rockdaleschools.org) \n 
URL:https://www.firstladiesyouthleadershipfdn.org/event/first-ladies-rcps-teen-leadership-summit/
LOCATION:Rockdale Career Academy\, 1064 Culpepper Drive Southwest\, Conyers\, Georgia\, 30094
ATTACH;FMTTYPE=image/jpeg:https://www.firstladiesyouthleadershipfdn.org/wp-content/uploads/2023/08/FL-PIC.jpeg
END:VEVENT
BEGIN:VEVENT
DTSTART;TZID=UTC:20240309T100000
DTEND;TZID=UTC:20240309T170000
DTSTAMP:20260421T120019
CREATED:20231204T131726Z
LAST-MODIFIED:20240229T162716Z
UID:7061-1709978400-1710003600@www.firstladiesyouthleadershipfdn.org
SUMMARY:20th Annual Atlanta Black College Expo - March 2024
DESCRIPTION:Join us for the Annual Atlanta Black College Expo! This exciting event is a must-attend for students\, parents\, and educators alike. Come to the Cobb Galleria Centre and discover the incredible opportunities available. Plus\, meet with close to 100 colleges\, including black colleges and universities (HBCUs). Get ACCEPTED on the spot! Possible scholarships. \n20th Annual Atlanta Black College Expo Tickets\, Sat\, Mar 9\, 2024 at 10:00 AM | Eventbrite
URL:https://www.firstladiesyouthleadershipfdn.org/event/black-college-expo/
LOCATION:cobb galleria
ATTACH;FMTTYPE=image/jpeg:https://www.firstladiesyouthleadershipfdn.org/wp-content/uploads/2023/08/FL-PIC.jpeg
END:VEVENT
BEGIN:VEVENT
DTSTART;TZID=UTC:20240229T163000
DTEND;TZID=UTC:20240229T183000
DTSTAMP:20260421T120019
CREATED:20240229T160212Z
LAST-MODIFIED:20240229T160342Z
UID:7115-1709224200-1709231400@www.firstladiesyouthleadershipfdn.org
SUMMARY:Afterschool Meet-Up
DESCRIPTION:
URL:https://www.firstladiesyouthleadershipfdn.org/event/afterschool-meet-up/
END:VEVENT
BEGIN:VEVENT
DTSTART;VALUE=DATE:20240222
DTEND;VALUE=DATE:20240223
DTSTAMP:20260421T120019
CREATED:20221001T200144Z
LAST-MODIFIED:20240123T193536Z
UID:6483-1708560000-1708646399@www.firstladiesyouthleadershipfdn.org
SUMMARY:Emory University S.T.E.M College Tour (High School Chapter)
DESCRIPTION:
URL:https://www.firstladiesyouthleadershipfdn.org/event/emory-university-w-dr-paula-ivone-executive-director-of-admissions-ms-prudence-goss-sr-assistant-dean-of-enrollment-management-student-affairs/
END:VEVENT
BEGIN:VEVENT
DTSTART;VALUE=DATE:20240217
DTEND;VALUE=DATE:20240226
DTSTAMP:20260421T120019
CREATED:20240123T195904Z
LAST-MODIFIED:20240123T200118Z
UID:7099-1708128000-1708905599@www.firstladiesyouthleadershipfdn.org
SUMMARY:RCPS Winter Break (Schools Closed)
DESCRIPTION:
URL:https://www.firstladiesyouthleadershipfdn.org/event/rcps-winter-break/
ATTACH;FMTTYPE=image/jpeg:https://www.firstladiesyouthleadershipfdn.org/wp-content/uploads/2023/08/FL-PIC-1.jpeg
END:VEVENT
BEGIN:VEVENT
DTSTART;VALUE=DATE:20240201
DTEND;VALUE=DATE:20240202
DTSTAMP:20260421T120019
CREATED:20240123T193951Z
LAST-MODIFIED:20240123T210048Z
UID:7094-1706745600-1706831999@www.firstladiesyouthleadershipfdn.org
SUMMARY:First Afterschool Meetup (2024)
DESCRIPTION:
URL:https://www.firstladiesyouthleadershipfdn.org/event/afterschool-meetup/
ATTACH;FMTTYPE=image/jpeg:https://www.firstladiesyouthleadershipfdn.org/wp-content/uploads/2023/08/FL-PIC-1.jpeg
END:VEVENT
BEGIN:VEVENT
DTSTART;VALUE=DATE:20240126
DTEND;VALUE=DATE:20240129
DTSTAMP:20260421T120019
CREATED:20220711T152251Z
LAST-MODIFIED:20240123T205557Z
UID:6215-1706227200-1706486399@www.firstladiesyouthleadershipfdn.org
SUMMARY:The First Ladies Re-Launch 2024
DESCRIPTION:
URL:https://www.firstladiesyouthleadershipfdn.org/event/the-re-launch/
ATTACH;FMTTYPE=image/png:https://www.firstladiesyouthleadershipfdn.org/wp-content/uploads/2022/07/January-Relaunch-2.png
END:VEVENT
BEGIN:VEVENT
DTSTART;VALUE=DATE:20240115
DTEND;VALUE=DATE:20240116
DTSTAMP:20260421T120019
CREATED:20231220T153819Z
LAST-MODIFIED:20231220T153819Z
UID:7084-1705276800-1705363199@www.firstladiesyouthleadershipfdn.org
SUMMARY:Martin Luther King Jr. Holiday
DESCRIPTION:
URL:https://www.firstladiesyouthleadershipfdn.org/event/martin-luther-king-jr-holiday/
ATTACH;FMTTYPE=image/jpeg:https://www.firstladiesyouthleadershipfdn.org/wp-content/uploads/2023/08/FL-PIC.jpeg
END:VEVENT
BEGIN:VEVENT
DTSTART;VALUE=DATE:20231225
DTEND;VALUE=DATE:20240103
DTSTAMP:20260421T120019
CREATED:20240123T200527Z
LAST-MODIFIED:20240123T200527Z
UID:7106-1703462400-1704239999@www.firstladiesyouthleadershipfdn.org
SUMMARY:Hanukkah Holiday
DESCRIPTION:
URL:https://www.firstladiesyouthleadershipfdn.org/event/hanukkah-holiday/
ATTACH;FMTTYPE=image/jpeg:https://www.firstladiesyouthleadershipfdn.org/wp-content/uploads/2023/08/FL-PIC-1.jpeg
END:VEVENT
BEGIN:VEVENT
DTSTART;VALUE=DATE:20231214
DTEND;VALUE=DATE:20231215
DTSTAMP:20260421T120019
CREATED:20230831T222503Z
LAST-MODIFIED:20231201T164151Z
UID:6775-1702512000-1702598399@www.firstladiesyouthleadershipfdn.org
SUMMARY:After-school Meet-Up (Select Chapters Only)
DESCRIPTION:TBD
URL:https://www.firstladiesyouthleadershipfdn.org/event/after-school-meeting-9/
ATTACH;FMTTYPE=image/jpeg:https://www.firstladiesyouthleadershipfdn.org/wp-content/uploads/2023/08/FL-PIC.jpeg
END:VEVENT
BEGIN:VEVENT
DTSTART;TZID=UTC:20231207T164500
DTEND;TZID=UTC:20231207T174500
DTSTAMP:20260421T120019
CREATED:20230831T222419Z
LAST-MODIFIED:20231201T164121Z
UID:6773-1701967500-1701971100@www.firstladiesyouthleadershipfdn.org
SUMMARY:After-school Meet-Up (NEW TIME)
DESCRIPTION:
URL:https://www.firstladiesyouthleadershipfdn.org/event/after-school-meeting-8/
ATTACH;FMTTYPE=image/jpeg:https://www.firstladiesyouthleadershipfdn.org/wp-content/uploads/2023/08/FL-PIC.jpeg
END:VEVENT
BEGIN:VEVENT
DTSTART;TZID=UTC:20231202T140000
DTEND;TZID=UTC:20231202T170000
DTSTAMP:20260421T120019
CREATED:20231201T163559Z
LAST-MODIFIED:20231201T164041Z
UID:7051-1701525600-1701536400@www.firstladiesyouthleadershipfdn.org
SUMMARY:Conyers/Covington Holiday Parade (Rescheduled Due to Weather)
DESCRIPTION:
URL:https://www.firstladiesyouthleadershipfdn.org/event/conyers-covington-holiday-parade-rescheduled-due-to-weather/
ATTACH;FMTTYPE=image/jpeg:https://www.firstladiesyouthleadershipfdn.org/wp-content/uploads/2023/08/FL-PIC.jpeg
END:VEVENT
BEGIN:VEVENT
DTSTART;TZID=UTC:20231201T173000
DTEND;TZID=UTC:20231201T193000
DTSTAMP:20260421T120019
CREATED:20231201T163408Z
LAST-MODIFIED:20231201T163939Z
UID:7049-1701451800-1701459000@www.firstladiesyouthleadershipfdn.org
SUMMARY:RCPS College Fair (High School Members)
DESCRIPTION:
URL:https://www.firstladiesyouthleadershipfdn.org/event/rcps-college-fair-high-school-members/
LOCATION:Rockdale Career Academy\, 1064 Culpepper Drive Southwest\, Conyers\, Georgia\, 30094
ATTACH;FMTTYPE=image/jpeg:https://www.firstladiesyouthleadershipfdn.org/wp-content/uploads/2023/08/FL-PIC.jpeg
END:VEVENT
BEGIN:VEVENT
DTSTART;TZID=UTC:20231130T163000
DTEND;TZID=UTC:20231130T183000
DTSTAMP:20260421T120019
CREATED:20230831T222334Z
LAST-MODIFIED:20231201T163251Z
UID:6771-1701361800-1701369000@www.firstladiesyouthleadershipfdn.org
SUMMARY:Afterschool Meet-Up - Dining Etiquette Part I
DESCRIPTION:
URL:https://www.firstladiesyouthleadershipfdn.org/event/after-school-meeting-7/
ATTACH;FMTTYPE=image/jpeg:https://www.firstladiesyouthleadershipfdn.org/wp-content/uploads/2023/08/FL-PIC.jpeg
END:VEVENT
BEGIN:VEVENT
DTSTART;TZID=UTC:20231116T163000
DTEND;TZID=UTC:20231116T183000
DTSTAMP:20260421T120019
CREATED:20230831T222255Z
LAST-MODIFIED:20230922T213424Z
UID:6769-1700152200-1700159400@www.firstladiesyouthleadershipfdn.org
SUMMARY:Afterschool Meet-Up
DESCRIPTION:
URL:https://www.firstladiesyouthleadershipfdn.org/event/after-school-meeting-6/
ATTACH;FMTTYPE=image/jpeg:https://www.firstladiesyouthleadershipfdn.org/wp-content/uploads/2023/08/FL-PIC.jpeg
END:VEVENT
BEGIN:VEVENT
DTSTART;TZID=UTC:20231109T163000
DTEND;TZID=UTC:20231109T183000
DTSTAMP:20260421T120019
CREATED:20230831T222110Z
LAST-MODIFIED:20230922T213410Z
UID:6767-1699547400-1699554600@www.firstladiesyouthleadershipfdn.org
SUMMARY:Afterschool Meet-Up
DESCRIPTION:
URL:https://www.firstladiesyouthleadershipfdn.org/event/after-school-meeting-5/
ATTACH;FMTTYPE=image/jpeg:https://www.firstladiesyouthleadershipfdn.org/wp-content/uploads/2023/08/FL-PIC.jpeg
END:VEVENT
BEGIN:VEVENT
DTSTART;TZID=UTC:20231102T163000
DTEND;TZID=UTC:20231102T183000
DTSTAMP:20260421T120019
CREATED:20230831T222025Z
LAST-MODIFIED:20230922T213345Z
UID:6765-1698942600-1698949800@www.firstladiesyouthleadershipfdn.org
SUMMARY:Afterschool Meet-Up
DESCRIPTION:
URL:https://www.firstladiesyouthleadershipfdn.org/event/after-school-meeting-4/
ATTACH;FMTTYPE=image/jpeg:https://www.firstladiesyouthleadershipfdn.org/wp-content/uploads/2023/08/FL-PIC.jpeg
END:VEVENT
BEGIN:VEVENT
DTSTART;TZID=UTC:20231026T163000
DTEND;TZID=UTC:20231026T183000
DTSTAMP:20260421T120019
CREATED:20230831T221545Z
LAST-MODIFIED:20230922T213322Z
UID:6759-1698337800-1698345000@www.firstladiesyouthleadershipfdn.org
SUMMARY:Afterschool Meet-Up
DESCRIPTION:Middle School Chapters Begin @ 4:30 PM \nHigh School Chapters begin @ 5:15PM
URL:https://www.firstladiesyouthleadershipfdn.org/event/after-school-meeting-3/
ATTACH;FMTTYPE=image/jpeg:https://www.firstladiesyouthleadershipfdn.org/wp-content/uploads/2023/08/FL-PIC.jpeg
END:VEVENT
BEGIN:VEVENT
DTSTART;TZID=UTC:20231022T154500
DTEND;TZID=UTC:20231022T173000
DTSTAMP:20260421T120019
CREATED:20230831T221703Z
LAST-MODIFIED:20231009T144332Z
UID:6761-1697989500-1697995800@www.firstladiesyouthleadershipfdn.org
SUMMARY:Signature Event || The First Ladies 14th Annual Induction Ceremony & Impartation Service
DESCRIPTION:It is our honor to invite you to our upcoming family event. The First Ladies Youth Leadership Foundation\, Inc.’s 14th Annual Induction Ceremony is a signature event held annually during the fall. It is hosted by the individual chapters or the Collective Induction Ceremony Committee for all chapters.
URL:https://www.firstladiesyouthleadershipfdn.org/event/the-annual-induction-ceremony-impartation-service/
LOCATION:Newton Conference Center\, 8100 Bob Williams Parkway\, Covington\, GA\, 30014\, United States
ATTACH;FMTTYPE=image/jpeg:https://www.firstladiesyouthleadershipfdn.org/wp-content/uploads/2023/08/FL-PIC.jpeg
END:VEVENT
BEGIN:VEVENT
DTSTART;TZID=UTC:20231019T163000
DTEND;TZID=UTC:20231019T183000
DTSTAMP:20260421T120019
CREATED:20230831T221518Z
LAST-MODIFIED:20230922T211923Z
UID:6757-1697733000-1697740200@www.firstladiesyouthleadershipfdn.org
SUMMARY:First Thursday Afterschool Meet-Up
DESCRIPTION:Middle School Chapters Begin @ 4:30 PM \nHigh School Chapters Begin @ 5:15 PM
URL:https://www.firstladiesyouthleadershipfdn.org/event/after-school-meeting-2/
ATTACH;FMTTYPE=image/jpeg:https://www.firstladiesyouthleadershipfdn.org/wp-content/uploads/2023/08/FL-PIC.jpeg
END:VEVENT
BEGIN:VEVENT
DTSTART;VALUE=DATE:20231009
DTEND;VALUE=DATE:20231014
DTSTAMP:20260421T120019
CREATED:20230831T221100Z
LAST-MODIFIED:20230831T221100Z
UID:6749-1696809600-1697241599@www.firstladiesyouthleadershipfdn.org
SUMMARY:NCPS Fall Break
DESCRIPTION:
URL:https://www.firstladiesyouthleadershipfdn.org/event/ncps-fall-break/
ATTACH;FMTTYPE=image/jpeg:https://www.firstladiesyouthleadershipfdn.org/wp-content/uploads/2023/08/FL-PIC.jpeg
END:VEVENT
BEGIN:VEVENT
DTSTART;VALUE=DATE:20231002
DTEND;VALUE=DATE:20231007
DTSTAMP:20260421T120019
CREATED:20230831T221012Z
LAST-MODIFIED:20230831T221012Z
UID:6747-1696204800-1696636799@www.firstladiesyouthleadershipfdn.org
SUMMARY:RCPS Fall Break
DESCRIPTION:
URL:https://www.firstladiesyouthleadershipfdn.org/event/rcps-fall-break/
ATTACH;FMTTYPE=image/jpeg:https://www.firstladiesyouthleadershipfdn.org/wp-content/uploads/2023/08/FL-PIC.jpeg
END:VEVENT
END:VCALENDAR